BEGIN:VCALENDAR
VERSION:2.0
PRODID:-//Cross Life Church - ECPv6.15.17.1//NONSGML v1.0//EN
CALSCALE:GREGORIAN
METHOD:PUBLISH
X-WR-CALNAME:Cross Life Church
X-ORIGINAL-URL:https://crosslifechurchvt.org
X-WR-CALDESC:Events for Cross Life Church
REFRESH-INTERVAL;VALUE=DURATION:PT1H
X-Robots-Tag:noindex
X-PUBLISHED-TTL:PT1H
BEGIN:VTIMEZONE
TZID:UTC
BEGIN:STANDARD
TZOFFSETFROM:+0000
TZOFFSETTO:+0000
TZNAME:UTC
DTSTART:20220101T000000
END:STANDARD
END:VTIMEZONE
BEGIN:VEVENT
DTSTART;TZID=UTC:20230110T183000
DTEND;TZID=UTC:20230110T200000
DTSTAMP:20260423T220901
CREATED:20230103T203637Z
LAST-MODIFIED:20230103T212547Z
UID:10000275-1673375400-1673380800@crosslifechurchvt.org
SUMMARY:Ferrisburgh Small Group
DESCRIPTION:Tuesday Nights at 6:30 pm at the home of\nTim and Dede Mishkit\n2717 Little Chicago Road\nFerrisburgh\, VT 05456\nDates:\nJan 10th\, 17th\, 24th\, 31st\nand\nFeb 7th
URL:https://crosslifechurchvt.org/event/ferrisburgh-small-group/
LOCATION:VT
ATTACH;FMTTYPE=image/jpeg:https://crosslifechurchvt.org/wp-content/uploads/2022/10/Small-Groups.jpeg
END:VEVENT
BEGIN:VEVENT
DTSTART;TZID=UTC:20230117T183000
DTEND;TZID=UTC:20230117T200000
DTSTAMP:20260423T220901
CREATED:20230103T203817Z
LAST-MODIFIED:20230103T212619Z
UID:10000276-1673980200-1673985600@crosslifechurchvt.org
SUMMARY:Ferrisburgh Small Group
DESCRIPTION:Tuesday Nights at 6:30 pm at the home of\nTim and Dede Mishkit\n2717 Little Chicago Road\nFerrisburgh\, VT 05456\nDates:\nJan 10th\, 17th\, 24th\, 31st\nand\nFeb 7th
URL:https://crosslifechurchvt.org/event/ferrisburgh-small-group-2/
LOCATION:VT
ATTACH;FMTTYPE=image/jpeg:https://crosslifechurchvt.org/wp-content/uploads/2022/10/Small-Groups.jpeg
END:VEVENT
BEGIN:VEVENT
DTSTART;TZID=UTC:20230123T183000
DTEND;TZID=UTC:20230123T200000
DTSTAMP:20260423T220901
CREATED:20230103T212050Z
LAST-MODIFIED:20230103T212050Z
UID:10000280-1674498600-1674504000@crosslifechurchvt.org
SUMMARY:Vergennes Small Group
DESCRIPTION:Our Vergennes Small Group-\nMondays at 10:30 am\nat the home of\nCandy and Bill Schmidt\n26 Maple Manor\nVergennes\, VT\nDates:\nJan 23rd\nFeb  13th\, 27th\nMarch 13th\, 27th
URL:https://crosslifechurchvt.org/event/vergennes-small-group/
LOCATION:VT
ATTACH;FMTTYPE=image/jpeg:https://crosslifechurchvt.org/wp-content/uploads/2022/10/Small-Groups.jpeg
END:VEVENT
BEGIN:VEVENT
DTSTART;TZID=UTC:20230124T183000
DTEND;TZID=UTC:20230124T200000
DTSTAMP:20260423T220901
CREATED:20230103T203902Z
LAST-MODIFIED:20230103T212949Z
UID:10000277-1674585000-1674590400@crosslifechurchvt.org
SUMMARY:Ferrisburgh Small Group
DESCRIPTION:Tuesday Nights at 6:30 pm at the home of\nTim and Dede Mishkit\n2717 Little Chicago Road\nFerrisburgh\, VT 05456\nDates:\nJan\n10th\, 17th\, 24th\, 31st\nand\nFeb 7th
URL:https://crosslifechurchvt.org/event/ferrisburgh-small-group-3/
LOCATION:VT
ATTACH;FMTTYPE=image/jpeg:https://crosslifechurchvt.org/wp-content/uploads/2022/10/Small-Groups.jpeg
END:VEVENT
BEGIN:VEVENT
DTSTART;TZID=UTC:20230131T183000
DTEND;TZID=UTC:20230131T200000
DTSTAMP:20260423T220901
CREATED:20230103T203957Z
LAST-MODIFIED:20230103T213019Z
UID:10000278-1675189800-1675195200@crosslifechurchvt.org
SUMMARY:Ferrisburgh Small Group
DESCRIPTION:Tuesday Nights at 6:30 pm at the home of\nTim and Dede Mishkit\n2717 Little Chicago Road\nFerrisburgh\, VT 05456\nDates:\nJan 10th\, 17th\, 24th\, 31st\nand\nFeb 7th
URL:https://crosslifechurchvt.org/event/ferrisburgh-small-group-4/
LOCATION:VT
ATTACH;FMTTYPE=image/jpeg:https://crosslifechurchvt.org/wp-content/uploads/2022/10/Small-Groups.jpeg
END:VEVENT
END:VCALENDAR