BEGIN:VCALENDAR
VERSION:2.0
PRODID:-//Cross Life Church - ECPv6.15.17.1//NONSGML v1.0//EN
CALSCALE:GREGORIAN
METHOD:PUBLISH
X-WR-CALNAME:Cross Life Church
X-ORIGINAL-URL:https://crosslifechurchvt.org
X-WR-CALDESC:Events for Cross Life Church
REFRESH-INTERVAL;VALUE=DURATION:PT1H
X-Robots-Tag:noindex
X-PUBLISHED-TTL:PT1H
BEGIN:VTIMEZONE
TZID:UTC
BEGIN:STANDARD
TZOFFSETFROM:+0000
TZOFFSETTO:+0000
TZNAME:UTC
DTSTART:20220101T000000
END:STANDARD
END:VTIMEZONE
BEGIN:VEVENT
DTSTART;TZID=UTC:20230207T183000
DTEND;TZID=UTC:20230207T200000
DTSTAMP:20260423T201603
CREATED:20230103T204054Z
LAST-MODIFIED:20230103T213048Z
UID:10000279-1675794600-1675800000@crosslifechurchvt.org
SUMMARY:Ferrisburgh Small Group
DESCRIPTION:Tuesday Nights at 6:30 pm at the home of\nTim and Dede Mishkit\n2717 Little Chicago Road\nFerrisburgh\, VT 05456\nDates:\nJan\n10th\, 17th\, 24th\, 31st\nand\nFeb 7th
URL:https://crosslifechurchvt.org/event/ferrisburgh-small-group-5/
LOCATION:VT
ATTACH;FMTTYPE=image/jpeg:https://crosslifechurchvt.org/wp-content/uploads/2022/10/Small-Groups.jpeg
END:VEVENT
BEGIN:VEVENT
DTSTART;TZID=UTC:20230213T103000
DTEND;TZID=UTC:20230213T120000
DTSTAMP:20260423T201603
CREATED:20230103T212224Z
LAST-MODIFIED:20230312T031047Z
UID:10000297-1676284200-1676289600@crosslifechurchvt.org
SUMMARY:Vergennes Small Group
DESCRIPTION:Our Vergennes Small Group-\nMondays at 10:30 am\nat the home of\nCandy and Bill Schmidt\n26 Maple Manor\nVergennes\, VT\nDates:\nJan 23rd\nFeb  13th\, 27th\nMarch 13th\, 27th
URL:https://crosslifechurchvt.org/event/vergennes-small-group-2/2023-02-13/
LOCATION:VT
ATTACH;FMTTYPE=image/jpeg:https://crosslifechurchvt.org/wp-content/uploads/2022/10/Small-Groups.jpeg
END:VEVENT
BEGIN:VEVENT
DTSTART;TZID=UTC:20230227T103000
DTEND;TZID=UTC:20230227T120000
DTSTAMP:20260423T201603
CREATED:20230103T212224Z
LAST-MODIFIED:20230312T031047Z
UID:10000298-1677493800-1677499200@crosslifechurchvt.org
SUMMARY:Vergennes Small Group
DESCRIPTION:Our Vergennes Small Group-\nMondays at 10:30 am\nat the home of\nCandy and Bill Schmidt\n26 Maple Manor\nVergennes\, VT\nDates:\nJan 23rd\nFeb  13th\, 27th\nMarch 13th\, 27th
URL:https://crosslifechurchvt.org/event/vergennes-small-group-2/2023-02-27/
LOCATION:VT
ATTACH;FMTTYPE=image/jpeg:https://crosslifechurchvt.org/wp-content/uploads/2022/10/Small-Groups.jpeg
END:VEVENT
END:VCALENDAR