BEGIN:VCALENDAR
VERSION:2.0
PRODID:-//Cross Life Church - ECPv6.15.17.1//NONSGML v1.0//EN
CALSCALE:GREGORIAN
METHOD:PUBLISH
X-WR-CALNAME:Cross Life Church
X-ORIGINAL-URL:https://crosslifechurchvt.org
X-WR-CALDESC:Events for Cross Life Church
REFRESH-INTERVAL;VALUE=DURATION:PT1H
X-Robots-Tag:noindex
X-PUBLISHED-TTL:PT1H
BEGIN:VTIMEZONE
TZID:UTC
BEGIN:STANDARD
TZOFFSETFROM:+0000
TZOFFSETTO:+0000
TZNAME:UTC
DTSTART:20220101T000000
END:STANDARD
END:VTIMEZONE
BEGIN:VEVENT
DTSTART;TZID=UTC:20230305T170000
DTEND;TZID=UTC:20230305T190000
DTSTAMP:20260423T183444
CREATED:20230312T030223Z
LAST-MODIFIED:20230312T030223Z
UID:10000285-1678035600-1678042800@crosslifechurchvt.org
SUMMARY:“RAW” (Real Authentic Worship)
DESCRIPTION:Please come and get “RAW” (Real Authentic Worship) with the Lord for the next four Sundays in March. This is the “final four” gathering I hope you all will participate in. \nWho: All (young and seasoned)\, All who are weary and laden. Come and Seek.\nWhen: 5:00 pm – Every Sunday night in March (3/5\, 3/12\, 3/19\, 3/26)\nWhere: Cross Life Church \n“The most powerful force on earth is God’s power in answer to the prayers of His people. \n”*Light food will be provided to us so we can gather around the Banquet Table to break bread and worship. \nFor more information contact Chestina Dowgiewicz (123chestina@gmail.com) or Lisa Bove (bove@wcvt.com)
URL:https://crosslifechurchvt.org/event/raw-real-authentic-worship/2023-03-05/
LOCATION:VT
END:VEVENT
BEGIN:VEVENT
DTSTART;TZID=UTC:20230312T170000
DTEND;TZID=UTC:20230312T190000
DTSTAMP:20260423T183444
CREATED:20230312T030223Z
LAST-MODIFIED:20230312T030223Z
UID:10000286-1678640400-1678647600@crosslifechurchvt.org
SUMMARY:“RAW” (Real Authentic Worship)
DESCRIPTION:Please come and get “RAW” (Real Authentic Worship) with the Lord for the next four Sundays in March. This is the “final four” gathering I hope you all will participate in. \nWho: All (young and seasoned)\, All who are weary and laden. Come and Seek.\nWhen: 5:00 pm – Every Sunday night in March (3/5\, 3/12\, 3/19\, 3/26)\nWhere: Cross Life Church \n“The most powerful force on earth is God’s power in answer to the prayers of His people. \n”*Light food will be provided to us so we can gather around the Banquet Table to break bread and worship. \nFor more information contact Chestina Dowgiewicz (123chestina@gmail.com) or Lisa Bove (bove@wcvt.com)
URL:https://crosslifechurchvt.org/event/raw-real-authentic-worship/2023-03-12/
LOCATION:VT
END:VEVENT
BEGIN:VEVENT
DTSTART;TZID=UTC:20230313T103000
DTEND;TZID=UTC:20230313T120000
DTSTAMP:20260423T183444
CREATED:20230103T212224Z
LAST-MODIFIED:20230312T031047Z
UID:10000299-1678703400-1678708800@crosslifechurchvt.org
SUMMARY:Vergennes Small Group
DESCRIPTION:Our Vergennes Small Group-\nMondays at 10:30 am\nat the home of\nCandy and Bill Schmidt\n26 Maple Manor\nVergennes\, VT\nDates:\nJan 23rd\nFeb  13th\, 27th\nMarch 13th\, 27th
URL:https://crosslifechurchvt.org/event/vergennes-small-group-2/2023-03-13/
LOCATION:VT
ATTACH;FMTTYPE=image/jpeg:https://crosslifechurchvt.org/wp-content/uploads/2022/10/Small-Groups.jpeg
END:VEVENT
BEGIN:VEVENT
DTSTART;TZID=UTC:20230319T170000
DTEND;TZID=UTC:20230319T190000
DTSTAMP:20260423T183444
CREATED:20230312T030223Z
LAST-MODIFIED:20230312T030223Z
UID:10000287-1679245200-1679252400@crosslifechurchvt.org
SUMMARY:“RAW” (Real Authentic Worship)
DESCRIPTION:Please come and get “RAW” (Real Authentic Worship) with the Lord for the next four Sundays in March. This is the “final four” gathering I hope you all will participate in. \nWho: All (young and seasoned)\, All who are weary and laden. Come and Seek.\nWhen: 5:00 pm – Every Sunday night in March (3/5\, 3/12\, 3/19\, 3/26)\nWhere: Cross Life Church \n“The most powerful force on earth is God’s power in answer to the prayers of His people. \n”*Light food will be provided to us so we can gather around the Banquet Table to break bread and worship. \nFor more information contact Chestina Dowgiewicz (123chestina@gmail.com) or Lisa Bove (bove@wcvt.com)
URL:https://crosslifechurchvt.org/event/raw-real-authentic-worship/2023-03-19/
LOCATION:VT
END:VEVENT
BEGIN:VEVENT
DTSTART;TZID=UTC:20230321T183000
DTEND;TZID=UTC:20230321T200000
DTSTAMP:20260423T183444
CREATED:20230312T030858Z
LAST-MODIFIED:20230312T031143Z
UID:10000289-1679423400-1679428800@crosslifechurchvt.org
SUMMARY:Ferrisburgh Small Group
DESCRIPTION:Ferrisburgh Small Group (tanamiller@crosslifechurchvt.org)\n6:30 PM \nMarch 21st at the Miller Home\nApril    4th at the Miller Home\n1341 Little Chicago Rd.\nFerrisburgh\, Vermont \nApril 18th at the Mishkit Home\nMay   2nd\, 16th and 30th at the Mishkit Home\nJune  13th and 27th at the Mishkit Home\n2717 Little Chicago Rd.\nFerrisburgh\, Vermont
URL:https://crosslifechurchvt.org/event/ferrisburgh-small-group-6/2023-03-21/
LOCATION:VT
ATTACH;FMTTYPE=image/jpeg:https://crosslifechurchvt.org/wp-content/uploads/2022/10/Small-Groups.jpeg
END:VEVENT
BEGIN:VEVENT
DTSTART;TZID=UTC:20230325T100000
DTEND;TZID=UTC:20230325T150000
DTSTAMP:20260423T183444
CREATED:20230312T031641Z
LAST-MODIFIED:20230312T031905Z
UID:10000301-1679738400-1679756400@crosslifechurchvt.org
SUMMARY:Fashioned - Created For Purpose Spring Experience
DESCRIPTION:Fashioned – Created For Purpose Spring Experience \nMARCH 25\, 10am-3pm\nCHURCH OF THE ROCK\nST. ALBANS\, VT\n$32 // includes coffee hour & lunch
URL:https://crosslifechurchvt.org/event/fashioned-created-for-purpose-spring-experience/
LOCATION:VT
ATTACH;FMTTYPE=image/jpeg:https://crosslifechurchvt.org/wp-content/uploads/2023/03/Image-3-11-23-at-9.17-PM.jpeg
END:VEVENT
BEGIN:VEVENT
DTSTART;TZID=UTC:20230326T170000
DTEND;TZID=UTC:20230326T190000
DTSTAMP:20260423T183444
CREATED:20230312T030223Z
LAST-MODIFIED:20230312T030223Z
UID:10000288-1679850000-1679857200@crosslifechurchvt.org
SUMMARY:“RAW” (Real Authentic Worship)
DESCRIPTION:Please come and get “RAW” (Real Authentic Worship) with the Lord for the next four Sundays in March. This is the “final four” gathering I hope you all will participate in. \nWho: All (young and seasoned)\, All who are weary and laden. Come and Seek.\nWhen: 5:00 pm – Every Sunday night in March (3/5\, 3/12\, 3/19\, 3/26)\nWhere: Cross Life Church \n“The most powerful force on earth is God’s power in answer to the prayers of His people. \n”*Light food will be provided to us so we can gather around the Banquet Table to break bread and worship. \nFor more information contact Chestina Dowgiewicz (123chestina@gmail.com) or Lisa Bove (bove@wcvt.com)
URL:https://crosslifechurchvt.org/event/raw-real-authentic-worship/2023-03-26/
LOCATION:VT
END:VEVENT
BEGIN:VEVENT
DTSTART;TZID=UTC:20230327T103000
DTEND;TZID=UTC:20230327T120000
DTSTAMP:20260423T183444
CREATED:20230103T212224Z
LAST-MODIFIED:20230312T031047Z
UID:10000300-1679913000-1679918400@crosslifechurchvt.org
SUMMARY:Vergennes Small Group
DESCRIPTION:Our Vergennes Small Group-\nMondays at 10:30 am\nat the home of\nCandy and Bill Schmidt\n26 Maple Manor\nVergennes\, VT\nDates:\nJan 23rd\nFeb  13th\, 27th\nMarch 13th\, 27th
URL:https://crosslifechurchvt.org/event/vergennes-small-group-2/2023-03-27/
LOCATION:VT
ATTACH;FMTTYPE=image/jpeg:https://crosslifechurchvt.org/wp-content/uploads/2022/10/Small-Groups.jpeg
END:VEVENT
END:VCALENDAR