BEGIN:VCALENDAR
VERSION:2.0
PRODID:-//Cross Life Church - ECPv6.15.17.1//NONSGML v1.0//EN
CALSCALE:GREGORIAN
METHOD:PUBLISH
X-WR-CALNAME:Cross Life Church
X-ORIGINAL-URL:https://crosslifechurchvt.org
X-WR-CALDESC:Events for Cross Life Church
REFRESH-INTERVAL;VALUE=DURATION:PT1H
X-Robots-Tag:noindex
X-PUBLISHED-TTL:PT1H
BEGIN:VTIMEZONE
TZID:UTC
BEGIN:STANDARD
TZOFFSETFROM:+0000
TZOFFSETTO:+0000
TZNAME:UTC
DTSTART:20210101T000000
END:STANDARD
END:VTIMEZONE
BEGIN:VEVENT
DTSTART;TZID=UTC:20220702T180000
DTEND;TZID=UTC:20220702T190000
DTSTAMP:20260423T234403
CREATED:20220614T214604Z
LAST-MODIFIED:20220621T143900Z
UID:10000143-1656784800-1656788400@crosslifechurchvt.org
SUMMARY:Prayer Meeting
DESCRIPTION:
URL:https://crosslifechurchvt.org/event/prayer-meeting/
LOCATION:VT
ATTACH;FMTTYPE=image/jpeg:https://crosslifechurchvt.org/wp-content/uploads/2022/06/20220417-DGL_7383-3-scaled-e1655135373985.jpg
END:VEVENT
END:VCALENDAR