BEGIN:VCALENDAR
VERSION:2.0
PRODID:-//Cross Life Church - ECPv6.15.17.1//NONSGML v1.0//EN
CALSCALE:GREGORIAN
METHOD:PUBLISH
X-ORIGINAL-URL:https://crosslifechurchvt.org
X-WR-CALDESC:Events for Cross Life Church
REFRESH-INTERVAL;VALUE=DURATION:PT1H
X-Robots-Tag:noindex
X-PUBLISHED-TTL:PT1H
BEGIN:VTIMEZONE
TZID:UTC
BEGIN:STANDARD
TZOFFSETFROM:+0000
TZOFFSETTO:+0000
TZNAME:UTC
DTSTART:20230101T000000
END:STANDARD
END:VTIMEZONE
BEGIN:VEVENT
DTSTART;TZID=UTC:20250409T090000
DTEND;TZID=UTC:20250409T100000
DTSTAMP:20260423T152550
CREATED:20241105T013330Z
LAST-MODIFIED:20241106T235406Z
UID:10000960-1744189200-1744192800@crosslifechurchvt.org
SUMMARY:Prayer Group
DESCRIPTION:Come join us for a time of prayer.
URL:https://crosslifechurchvt.org/event/prayer-group/2025-04-09/
LOCATION:Cross Life Church\, 1759 US Route 7\, Ferrisburgh\, VT\, 05491\, United States
ATTACH;FMTTYPE=image/jpeg:https://crosslifechurchvt.org/wp-content/uploads/2024/11/olivia-snow-CPPFtCHY6mo-unsplash-scaled.jpg
ORGANIZER;CN="Bill Schmidt":MAILTO:office@crosslifechurchvt.org
END:VEVENT
BEGIN:VEVENT
DTSTART;TZID=UTC:20250406T090000
DTEND;TZID=UTC:20250406T094500
DTSTAMP:20260423T152550
CREATED:20241105T015717Z
LAST-MODIFIED:20241105T022203Z
UID:10000699-1743930000-1743932700@crosslifechurchvt.org
SUMMARY:Adult Sunday School
DESCRIPTION:Bring your bible\, writing utensil\, and notepad\, grab a cup of coffee and join us for fellowship and learning.
URL:https://crosslifechurchvt.org/event/adult-sunday-school-2/2025-04-06/
LOCATION:Cross Life Church\, 1759 US Route 7\, Ferrisburgh\, VT\, 05491\, United States
ATTACH;FMTTYPE=image/jpeg:https://crosslifechurchvt.org/wp-content/uploads/2022/06/bible-scaled-e1656616894798.jpg
ORGANIZER;CN="Bill Schmidt":MAILTO:office@crosslifechurchvt.org
END:VEVENT
BEGIN:VEVENT
DTSTART;TZID=UTC:20250402T090000
DTEND;TZID=UTC:20250402T100000
DTSTAMP:20260423T152550
CREATED:20241105T013330Z
LAST-MODIFIED:20241106T235406Z
UID:10000959-1743584400-1743588000@crosslifechurchvt.org
SUMMARY:Prayer Group
DESCRIPTION:Come join us for a time of prayer.
URL:https://crosslifechurchvt.org/event/prayer-group/2025-04-02/
LOCATION:Cross Life Church\, 1759 US Route 7\, Ferrisburgh\, VT\, 05491\, United States
ATTACH;FMTTYPE=image/jpeg:https://crosslifechurchvt.org/wp-content/uploads/2024/11/olivia-snow-CPPFtCHY6mo-unsplash-scaled.jpg
ORGANIZER;CN="Bill Schmidt":MAILTO:office@crosslifechurchvt.org
END:VEVENT
BEGIN:VEVENT
DTSTART;TZID=UTC:20250330T090000
DTEND;TZID=UTC:20250330T094500
DTSTAMP:20260423T152550
CREATED:20241105T015717Z
LAST-MODIFIED:20241105T022203Z
UID:10000698-1743325200-1743327900@crosslifechurchvt.org
SUMMARY:Adult Sunday School
DESCRIPTION:Bring your bible\, writing utensil\, and notepad\, grab a cup of coffee and join us for fellowship and learning.
URL:https://crosslifechurchvt.org/event/adult-sunday-school-2/2025-03-30/
LOCATION:Cross Life Church\, 1759 US Route 7\, Ferrisburgh\, VT\, 05491\, United States
ATTACH;FMTTYPE=image/jpeg:https://crosslifechurchvt.org/wp-content/uploads/2022/06/bible-scaled-e1656616894798.jpg
ORGANIZER;CN="Bill Schmidt":MAILTO:office@crosslifechurchvt.org
END:VEVENT
BEGIN:VEVENT
DTSTART;TZID=UTC:20250326T090000
DTEND;TZID=UTC:20250326T100000
DTSTAMP:20260423T152550
CREATED:20241105T013330Z
LAST-MODIFIED:20241106T235406Z
UID:10000958-1742979600-1742983200@crosslifechurchvt.org
SUMMARY:Prayer Group
DESCRIPTION:Come join us for a time of prayer.
URL:https://crosslifechurchvt.org/event/prayer-group/2025-03-26/
LOCATION:Cross Life Church\, 1759 US Route 7\, Ferrisburgh\, VT\, 05491\, United States
ATTACH;FMTTYPE=image/jpeg:https://crosslifechurchvt.org/wp-content/uploads/2024/11/olivia-snow-CPPFtCHY6mo-unsplash-scaled.jpg
ORGANIZER;CN="Bill Schmidt":MAILTO:office@crosslifechurchvt.org
END:VEVENT
BEGIN:VEVENT
DTSTART;TZID=UTC:20250323T090000
DTEND;TZID=UTC:20250323T094500
DTSTAMP:20260423T152550
CREATED:20241105T015717Z
LAST-MODIFIED:20241105T022203Z
UID:10000697-1742720400-1742723100@crosslifechurchvt.org
SUMMARY:Adult Sunday School
DESCRIPTION:Bring your bible\, writing utensil\, and notepad\, grab a cup of coffee and join us for fellowship and learning.
URL:https://crosslifechurchvt.org/event/adult-sunday-school-2/2025-03-23/
LOCATION:Cross Life Church\, 1759 US Route 7\, Ferrisburgh\, VT\, 05491\, United States
ATTACH;FMTTYPE=image/jpeg:https://crosslifechurchvt.org/wp-content/uploads/2022/06/bible-scaled-e1656616894798.jpg
ORGANIZER;CN="Bill Schmidt":MAILTO:office@crosslifechurchvt.org
END:VEVENT
BEGIN:VEVENT
DTSTART;TZID=UTC:20250319T090000
DTEND;TZID=UTC:20250319T100000
DTSTAMP:20260423T152550
CREATED:20241105T013330Z
LAST-MODIFIED:20241106T235406Z
UID:10000957-1742374800-1742378400@crosslifechurchvt.org
SUMMARY:Prayer Group
DESCRIPTION:Come join us for a time of prayer.
URL:https://crosslifechurchvt.org/event/prayer-group/2025-03-19/
LOCATION:Cross Life Church\, 1759 US Route 7\, Ferrisburgh\, VT\, 05491\, United States
ATTACH;FMTTYPE=image/jpeg:https://crosslifechurchvt.org/wp-content/uploads/2024/11/olivia-snow-CPPFtCHY6mo-unsplash-scaled.jpg
ORGANIZER;CN="Bill Schmidt":MAILTO:office@crosslifechurchvt.org
END:VEVENT
BEGIN:VEVENT
DTSTART;TZID=UTC:20250316T090000
DTEND;TZID=UTC:20250316T094500
DTSTAMP:20260423T152550
CREATED:20241105T015717Z
LAST-MODIFIED:20241105T022203Z
UID:10000696-1742115600-1742118300@crosslifechurchvt.org
SUMMARY:Adult Sunday School
DESCRIPTION:Bring your bible\, writing utensil\, and notepad\, grab a cup of coffee and join us for fellowship and learning.
URL:https://crosslifechurchvt.org/event/adult-sunday-school-2/2025-03-16/
LOCATION:Cross Life Church\, 1759 US Route 7\, Ferrisburgh\, VT\, 05491\, United States
ATTACH;FMTTYPE=image/jpeg:https://crosslifechurchvt.org/wp-content/uploads/2022/06/bible-scaled-e1656616894798.jpg
ORGANIZER;CN="Bill Schmidt":MAILTO:office@crosslifechurchvt.org
END:VEVENT
BEGIN:VEVENT
DTSTART;TZID=UTC:20250312T090000
DTEND;TZID=UTC:20250312T100000
DTSTAMP:20260423T152550
CREATED:20241105T013330Z
LAST-MODIFIED:20241106T235406Z
UID:10000956-1741770000-1741773600@crosslifechurchvt.org
SUMMARY:Prayer Group
DESCRIPTION:Come join us for a time of prayer.
URL:https://crosslifechurchvt.org/event/prayer-group/2025-03-12/
LOCATION:Cross Life Church\, 1759 US Route 7\, Ferrisburgh\, VT\, 05491\, United States
ATTACH;FMTTYPE=image/jpeg:https://crosslifechurchvt.org/wp-content/uploads/2024/11/olivia-snow-CPPFtCHY6mo-unsplash-scaled.jpg
ORGANIZER;CN="Bill Schmidt":MAILTO:office@crosslifechurchvt.org
END:VEVENT
BEGIN:VEVENT
DTSTART;TZID=UTC:20250309T090000
DTEND;TZID=UTC:20250309T094500
DTSTAMP:20260423T152550
CREATED:20241105T015717Z
LAST-MODIFIED:20241105T022203Z
UID:10000695-1741510800-1741513500@crosslifechurchvt.org
SUMMARY:Adult Sunday School
DESCRIPTION:Bring your bible\, writing utensil\, and notepad\, grab a cup of coffee and join us for fellowship and learning.
URL:https://crosslifechurchvt.org/event/adult-sunday-school-2/2025-03-09/
LOCATION:Cross Life Church\, 1759 US Route 7\, Ferrisburgh\, VT\, 05491\, United States
ATTACH;FMTTYPE=image/jpeg:https://crosslifechurchvt.org/wp-content/uploads/2022/06/bible-scaled-e1656616894798.jpg
ORGANIZER;CN="Bill Schmidt":MAILTO:office@crosslifechurchvt.org
END:VEVENT
BEGIN:VEVENT
DTSTART;TZID=UTC:20250305T090000
DTEND;TZID=UTC:20250305T100000
DTSTAMP:20260423T152550
CREATED:20241105T013330Z
LAST-MODIFIED:20241106T235406Z
UID:10000955-1741165200-1741168800@crosslifechurchvt.org
SUMMARY:Prayer Group
DESCRIPTION:Come join us for a time of prayer.
URL:https://crosslifechurchvt.org/event/prayer-group/2025-03-05/
LOCATION:Cross Life Church\, 1759 US Route 7\, Ferrisburgh\, VT\, 05491\, United States
ATTACH;FMTTYPE=image/jpeg:https://crosslifechurchvt.org/wp-content/uploads/2024/11/olivia-snow-CPPFtCHY6mo-unsplash-scaled.jpg
ORGANIZER;CN="Bill Schmidt":MAILTO:office@crosslifechurchvt.org
END:VEVENT
BEGIN:VEVENT
DTSTART;TZID=UTC:20250302T090000
DTEND;TZID=UTC:20250302T094500
DTSTAMP:20260423T152550
CREATED:20241105T015717Z
LAST-MODIFIED:20241105T022203Z
UID:10000694-1740906000-1740908700@crosslifechurchvt.org
SUMMARY:Adult Sunday School
DESCRIPTION:Bring your bible\, writing utensil\, and notepad\, grab a cup of coffee and join us for fellowship and learning.
URL:https://crosslifechurchvt.org/event/adult-sunday-school-2/2025-03-02/
LOCATION:Cross Life Church\, 1759 US Route 7\, Ferrisburgh\, VT\, 05491\, United States
ATTACH;FMTTYPE=image/jpeg:https://crosslifechurchvt.org/wp-content/uploads/2022/06/bible-scaled-e1656616894798.jpg
ORGANIZER;CN="Bill Schmidt":MAILTO:office@crosslifechurchvt.org
END:VEVENT
BEGIN:VEVENT
DTSTART;TZID=UTC:20250226T090000
DTEND;TZID=UTC:20250226T100000
DTSTAMP:20260423T152550
CREATED:20241105T013330Z
LAST-MODIFIED:20241106T235406Z
UID:10000954-1740560400-1740564000@crosslifechurchvt.org
SUMMARY:Prayer Group
DESCRIPTION:Come join us for a time of prayer.
URL:https://crosslifechurchvt.org/event/prayer-group/2025-02-26/
LOCATION:Cross Life Church\, 1759 US Route 7\, Ferrisburgh\, VT\, 05491\, United States
ATTACH;FMTTYPE=image/jpeg:https://crosslifechurchvt.org/wp-content/uploads/2024/11/olivia-snow-CPPFtCHY6mo-unsplash-scaled.jpg
ORGANIZER;CN="Bill Schmidt":MAILTO:office@crosslifechurchvt.org
END:VEVENT
BEGIN:VEVENT
DTSTART;TZID=UTC:20250223T090000
DTEND;TZID=UTC:20250223T094500
DTSTAMP:20260423T152550
CREATED:20241105T015717Z
LAST-MODIFIED:20241105T022203Z
UID:10000693-1740301200-1740303900@crosslifechurchvt.org
SUMMARY:Adult Sunday School
DESCRIPTION:Bring your bible\, writing utensil\, and notepad\, grab a cup of coffee and join us for fellowship and learning.
URL:https://crosslifechurchvt.org/event/adult-sunday-school-2/2025-02-23/
LOCATION:Cross Life Church\, 1759 US Route 7\, Ferrisburgh\, VT\, 05491\, United States
ATTACH;FMTTYPE=image/jpeg:https://crosslifechurchvt.org/wp-content/uploads/2022/06/bible-scaled-e1656616894798.jpg
ORGANIZER;CN="Bill Schmidt":MAILTO:office@crosslifechurchvt.org
END:VEVENT
BEGIN:VEVENT
DTSTART;TZID=UTC:20250219T090000
DTEND;TZID=UTC:20250219T100000
DTSTAMP:20260423T152550
CREATED:20241105T013330Z
LAST-MODIFIED:20241106T235406Z
UID:10000953-1739955600-1739959200@crosslifechurchvt.org
SUMMARY:Prayer Group
DESCRIPTION:Come join us for a time of prayer.
URL:https://crosslifechurchvt.org/event/prayer-group/2025-02-19/
LOCATION:Cross Life Church\, 1759 US Route 7\, Ferrisburgh\, VT\, 05491\, United States
ATTACH;FMTTYPE=image/jpeg:https://crosslifechurchvt.org/wp-content/uploads/2024/11/olivia-snow-CPPFtCHY6mo-unsplash-scaled.jpg
ORGANIZER;CN="Bill Schmidt":MAILTO:office@crosslifechurchvt.org
END:VEVENT
BEGIN:VEVENT
DTSTART;TZID=UTC:20250216T090000
DTEND;TZID=UTC:20250216T094500
DTSTAMP:20260423T152550
CREATED:20241105T015717Z
LAST-MODIFIED:20241105T022203Z
UID:10000692-1739696400-1739699100@crosslifechurchvt.org
SUMMARY:Adult Sunday School
DESCRIPTION:Bring your bible\, writing utensil\, and notepad\, grab a cup of coffee and join us for fellowship and learning.
URL:https://crosslifechurchvt.org/event/adult-sunday-school-2/2025-02-16/
LOCATION:Cross Life Church\, 1759 US Route 7\, Ferrisburgh\, VT\, 05491\, United States
ATTACH;FMTTYPE=image/jpeg:https://crosslifechurchvt.org/wp-content/uploads/2022/06/bible-scaled-e1656616894798.jpg
ORGANIZER;CN="Bill Schmidt":MAILTO:office@crosslifechurchvt.org
END:VEVENT
BEGIN:VEVENT
DTSTART;TZID=UTC:20250212T090000
DTEND;TZID=UTC:20250212T100000
DTSTAMP:20260423T152550
CREATED:20241105T013330Z
LAST-MODIFIED:20241106T235406Z
UID:10000952-1739350800-1739354400@crosslifechurchvt.org
SUMMARY:Prayer Group
DESCRIPTION:Come join us for a time of prayer.
URL:https://crosslifechurchvt.org/event/prayer-group/2025-02-12/
LOCATION:Cross Life Church\, 1759 US Route 7\, Ferrisburgh\, VT\, 05491\, United States
ATTACH;FMTTYPE=image/jpeg:https://crosslifechurchvt.org/wp-content/uploads/2024/11/olivia-snow-CPPFtCHY6mo-unsplash-scaled.jpg
ORGANIZER;CN="Bill Schmidt":MAILTO:office@crosslifechurchvt.org
END:VEVENT
BEGIN:VEVENT
DTSTART;TZID=UTC:20250209T090000
DTEND;TZID=UTC:20250209T094500
DTSTAMP:20260423T152550
CREATED:20241105T015717Z
LAST-MODIFIED:20241105T022203Z
UID:10000691-1739091600-1739094300@crosslifechurchvt.org
SUMMARY:Adult Sunday School
DESCRIPTION:Bring your bible\, writing utensil\, and notepad\, grab a cup of coffee and join us for fellowship and learning.
URL:https://crosslifechurchvt.org/event/adult-sunday-school-2/2025-02-09/
LOCATION:Cross Life Church\, 1759 US Route 7\, Ferrisburgh\, VT\, 05491\, United States
ATTACH;FMTTYPE=image/jpeg:https://crosslifechurchvt.org/wp-content/uploads/2022/06/bible-scaled-e1656616894798.jpg
ORGANIZER;CN="Bill Schmidt":MAILTO:office@crosslifechurchvt.org
END:VEVENT
BEGIN:VEVENT
DTSTART;TZID=UTC:20250205T090000
DTEND;TZID=UTC:20250205T100000
DTSTAMP:20260423T152550
CREATED:20241105T013330Z
LAST-MODIFIED:20241106T235406Z
UID:10000951-1738746000-1738749600@crosslifechurchvt.org
SUMMARY:Prayer Group
DESCRIPTION:Come join us for a time of prayer.
URL:https://crosslifechurchvt.org/event/prayer-group/2025-02-05/
LOCATION:Cross Life Church\, 1759 US Route 7\, Ferrisburgh\, VT\, 05491\, United States
ATTACH;FMTTYPE=image/jpeg:https://crosslifechurchvt.org/wp-content/uploads/2024/11/olivia-snow-CPPFtCHY6mo-unsplash-scaled.jpg
ORGANIZER;CN="Bill Schmidt":MAILTO:office@crosslifechurchvt.org
END:VEVENT
BEGIN:VEVENT
DTSTART;TZID=UTC:20250202T090000
DTEND;TZID=UTC:20250202T094500
DTSTAMP:20260423T152550
CREATED:20241105T015717Z
LAST-MODIFIED:20241105T022203Z
UID:10000690-1738486800-1738489500@crosslifechurchvt.org
SUMMARY:Adult Sunday School
DESCRIPTION:Bring your bible\, writing utensil\, and notepad\, grab a cup of coffee and join us for fellowship and learning.
URL:https://crosslifechurchvt.org/event/adult-sunday-school-2/2025-02-02/
LOCATION:Cross Life Church\, 1759 US Route 7\, Ferrisburgh\, VT\, 05491\, United States
ATTACH;FMTTYPE=image/jpeg:https://crosslifechurchvt.org/wp-content/uploads/2022/06/bible-scaled-e1656616894798.jpg
ORGANIZER;CN="Bill Schmidt":MAILTO:office@crosslifechurchvt.org
END:VEVENT
BEGIN:VEVENT
DTSTART;TZID=UTC:20250129T090000
DTEND;TZID=UTC:20250129T100000
DTSTAMP:20260423T152550
CREATED:20241105T013330Z
LAST-MODIFIED:20241106T235406Z
UID:10000950-1738141200-1738144800@crosslifechurchvt.org
SUMMARY:Prayer Group
DESCRIPTION:Come join us for a time of prayer.
URL:https://crosslifechurchvt.org/event/prayer-group/2025-01-29/
LOCATION:Cross Life Church\, 1759 US Route 7\, Ferrisburgh\, VT\, 05491\, United States
ATTACH;FMTTYPE=image/jpeg:https://crosslifechurchvt.org/wp-content/uploads/2024/11/olivia-snow-CPPFtCHY6mo-unsplash-scaled.jpg
ORGANIZER;CN="Bill Schmidt":MAILTO:office@crosslifechurchvt.org
END:VEVENT
BEGIN:VEVENT
DTSTART;TZID=UTC:20250126T090000
DTEND;TZID=UTC:20250126T094500
DTSTAMP:20260423T152550
CREATED:20241105T015717Z
LAST-MODIFIED:20241105T022203Z
UID:10000689-1737882000-1737884700@crosslifechurchvt.org
SUMMARY:Adult Sunday School
DESCRIPTION:Bring your bible\, writing utensil\, and notepad\, grab a cup of coffee and join us for fellowship and learning.
URL:https://crosslifechurchvt.org/event/adult-sunday-school-2/2025-01-26/
LOCATION:Cross Life Church\, 1759 US Route 7\, Ferrisburgh\, VT\, 05491\, United States
ATTACH;FMTTYPE=image/jpeg:https://crosslifechurchvt.org/wp-content/uploads/2022/06/bible-scaled-e1656616894798.jpg
ORGANIZER;CN="Bill Schmidt":MAILTO:office@crosslifechurchvt.org
END:VEVENT
BEGIN:VEVENT
DTSTART;TZID=UTC:20250122T090000
DTEND;TZID=UTC:20250122T100000
DTSTAMP:20260423T152550
CREATED:20241105T013330Z
LAST-MODIFIED:20241106T235406Z
UID:10000949-1737536400-1737540000@crosslifechurchvt.org
SUMMARY:Prayer Group
DESCRIPTION:Come join us for a time of prayer.
URL:https://crosslifechurchvt.org/event/prayer-group/2025-01-22/
LOCATION:Cross Life Church\, 1759 US Route 7\, Ferrisburgh\, VT\, 05491\, United States
ATTACH;FMTTYPE=image/jpeg:https://crosslifechurchvt.org/wp-content/uploads/2024/11/olivia-snow-CPPFtCHY6mo-unsplash-scaled.jpg
ORGANIZER;CN="Bill Schmidt":MAILTO:office@crosslifechurchvt.org
END:VEVENT
BEGIN:VEVENT
DTSTART;TZID=UTC:20250119T090000
DTEND;TZID=UTC:20250119T094500
DTSTAMP:20260423T152550
CREATED:20241105T015717Z
LAST-MODIFIED:20241105T022203Z
UID:10000688-1737277200-1737279900@crosslifechurchvt.org
SUMMARY:Adult Sunday School
DESCRIPTION:Bring your bible\, writing utensil\, and notepad\, grab a cup of coffee and join us for fellowship and learning.
URL:https://crosslifechurchvt.org/event/adult-sunday-school-2/2025-01-19/
LOCATION:Cross Life Church\, 1759 US Route 7\, Ferrisburgh\, VT\, 05491\, United States
ATTACH;FMTTYPE=image/jpeg:https://crosslifechurchvt.org/wp-content/uploads/2022/06/bible-scaled-e1656616894798.jpg
ORGANIZER;CN="Bill Schmidt":MAILTO:office@crosslifechurchvt.org
END:VEVENT
BEGIN:VEVENT
DTSTART;TZID=UTC:20250115T090000
DTEND;TZID=UTC:20250115T100000
DTSTAMP:20260423T152550
CREATED:20241105T013330Z
LAST-MODIFIED:20241106T235406Z
UID:10000948-1736931600-1736935200@crosslifechurchvt.org
SUMMARY:Prayer Group
DESCRIPTION:Come join us for a time of prayer.
URL:https://crosslifechurchvt.org/event/prayer-group/2025-01-15/
LOCATION:Cross Life Church\, 1759 US Route 7\, Ferrisburgh\, VT\, 05491\, United States
ATTACH;FMTTYPE=image/jpeg:https://crosslifechurchvt.org/wp-content/uploads/2024/11/olivia-snow-CPPFtCHY6mo-unsplash-scaled.jpg
ORGANIZER;CN="Bill Schmidt":MAILTO:office@crosslifechurchvt.org
END:VEVENT
BEGIN:VEVENT
DTSTART;TZID=UTC:20250112T090000
DTEND;TZID=UTC:20250112T094500
DTSTAMP:20260423T152550
CREATED:20241105T015717Z
LAST-MODIFIED:20241105T022203Z
UID:10000687-1736672400-1736675100@crosslifechurchvt.org
SUMMARY:Adult Sunday School
DESCRIPTION:Bring your bible\, writing utensil\, and notepad\, grab a cup of coffee and join us for fellowship and learning.
URL:https://crosslifechurchvt.org/event/adult-sunday-school-2/2025-01-12/
LOCATION:Cross Life Church\, 1759 US Route 7\, Ferrisburgh\, VT\, 05491\, United States
ATTACH;FMTTYPE=image/jpeg:https://crosslifechurchvt.org/wp-content/uploads/2022/06/bible-scaled-e1656616894798.jpg
ORGANIZER;CN="Bill Schmidt":MAILTO:office@crosslifechurchvt.org
END:VEVENT
BEGIN:VEVENT
DTSTART;TZID=UTC:20250108T090000
DTEND;TZID=UTC:20250108T100000
DTSTAMP:20260423T152550
CREATED:20241105T013330Z
LAST-MODIFIED:20241106T235406Z
UID:10000947-1736326800-1736330400@crosslifechurchvt.org
SUMMARY:Prayer Group
DESCRIPTION:Come join us for a time of prayer.
URL:https://crosslifechurchvt.org/event/prayer-group/2025-01-08/
LOCATION:Cross Life Church\, 1759 US Route 7\, Ferrisburgh\, VT\, 05491\, United States
ATTACH;FMTTYPE=image/jpeg:https://crosslifechurchvt.org/wp-content/uploads/2024/11/olivia-snow-CPPFtCHY6mo-unsplash-scaled.jpg
ORGANIZER;CN="Bill Schmidt":MAILTO:office@crosslifechurchvt.org
END:VEVENT
BEGIN:VEVENT
DTSTART;TZID=UTC:20250105T090000
DTEND;TZID=UTC:20250105T094500
DTSTAMP:20260423T152550
CREATED:20241105T015717Z
LAST-MODIFIED:20241105T022203Z
UID:10000686-1736067600-1736070300@crosslifechurchvt.org
SUMMARY:Adult Sunday School
DESCRIPTION:Bring your bible\, writing utensil\, and notepad\, grab a cup of coffee and join us for fellowship and learning.
URL:https://crosslifechurchvt.org/event/adult-sunday-school-2/2025-01-05/
LOCATION:Cross Life Church\, 1759 US Route 7\, Ferrisburgh\, VT\, 05491\, United States
ATTACH;FMTTYPE=image/jpeg:https://crosslifechurchvt.org/wp-content/uploads/2022/06/bible-scaled-e1656616894798.jpg
ORGANIZER;CN="Bill Schmidt":MAILTO:office@crosslifechurchvt.org
END:VEVENT
BEGIN:VEVENT
DTSTART;TZID=UTC:20250101T090000
DTEND;TZID=UTC:20250101T100000
DTSTAMP:20260423T152550
CREATED:20241105T013330Z
LAST-MODIFIED:20241106T235406Z
UID:10000946-1735722000-1735725600@crosslifechurchvt.org
SUMMARY:Prayer Group
DESCRIPTION:Come join us for a time of prayer.
URL:https://crosslifechurchvt.org/event/prayer-group/2025-01-01/
LOCATION:Cross Life Church\, 1759 US Route 7\, Ferrisburgh\, VT\, 05491\, United States
ATTACH;FMTTYPE=image/jpeg:https://crosslifechurchvt.org/wp-content/uploads/2024/11/olivia-snow-CPPFtCHY6mo-unsplash-scaled.jpg
ORGANIZER;CN="Bill Schmidt":MAILTO:office@crosslifechurchvt.org
END:VEVENT
BEGIN:VEVENT
DTSTART;TZID=UTC:20241229T090000
DTEND;TZID=UTC:20241229T094500
DTSTAMP:20260423T152550
CREATED:20241105T015717Z
LAST-MODIFIED:20241105T022203Z
UID:10000685-1735462800-1735465500@crosslifechurchvt.org
SUMMARY:Adult Sunday School
DESCRIPTION:Bring your bible\, writing utensil\, and notepad\, grab a cup of coffee and join us for fellowship and learning.
URL:https://crosslifechurchvt.org/event/adult-sunday-school-2/2024-12-29/
LOCATION:Cross Life Church\, 1759 US Route 7\, Ferrisburgh\, VT\, 05491\, United States
ATTACH;FMTTYPE=image/jpeg:https://crosslifechurchvt.org/wp-content/uploads/2022/06/bible-scaled-e1656616894798.jpg
ORGANIZER;CN="Bill Schmidt":MAILTO:office@crosslifechurchvt.org
END:VEVENT
END:VCALENDAR