BEGIN:VCALENDAR
VERSION:2.0
PRODID:-//Cross Life Church - ECPv6.15.17.1//NONSGML v1.0//EN
CALSCALE:GREGORIAN
METHOD:PUBLISH
X-ORIGINAL-URL:https://crosslifechurchvt.org
X-WR-CALDESC:Events for Cross Life Church
REFRESH-INTERVAL;VALUE=DURATION:PT1H
X-Robots-Tag:noindex
X-PUBLISHED-TTL:PT1H
BEGIN:VTIMEZONE
TZID:UTC
BEGIN:STANDARD
TZOFFSETFROM:+0000
TZOFFSETTO:+0000
TZNAME:UTC
DTSTART:20230101T000000
END:STANDARD
END:VTIMEZONE
BEGIN:VEVENT
DTSTART;TZID=UTC:20250115T090000
DTEND;TZID=UTC:20250115T100000
DTSTAMP:20260423T183728
CREATED:20241105T013330Z
LAST-MODIFIED:20241106T235406Z
UID:10000948-1736931600-1736935200@crosslifechurchvt.org
SUMMARY:Prayer Group
DESCRIPTION:Come join us for a time of prayer.
URL:https://crosslifechurchvt.org/event/prayer-group/2025-01-15/
LOCATION:Cross Life Church\, 1759 US Route 7\, Ferrisburgh\, VT\, 05491\, United States
ATTACH;FMTTYPE=image/jpeg:https://crosslifechurchvt.org/wp-content/uploads/2024/11/olivia-snow-CPPFtCHY6mo-unsplash-scaled.jpg
ORGANIZER;CN="Bill Schmidt":MAILTO:office@crosslifechurchvt.org
END:VEVENT
BEGIN:VEVENT
DTSTART;TZID=UTC:20250112T090000
DTEND;TZID=UTC:20250112T094500
DTSTAMP:20260423T183728
CREATED:20241105T015717Z
LAST-MODIFIED:20241105T022203Z
UID:10000687-1736672400-1736675100@crosslifechurchvt.org
SUMMARY:Adult Sunday School
DESCRIPTION:Bring your bible\, writing utensil\, and notepad\, grab a cup of coffee and join us for fellowship and learning.
URL:https://crosslifechurchvt.org/event/adult-sunday-school-2/2025-01-12/
LOCATION:Cross Life Church\, 1759 US Route 7\, Ferrisburgh\, VT\, 05491\, United States
ATTACH;FMTTYPE=image/jpeg:https://crosslifechurchvt.org/wp-content/uploads/2022/06/bible-scaled-e1656616894798.jpg
ORGANIZER;CN="Bill Schmidt":MAILTO:office@crosslifechurchvt.org
END:VEVENT
BEGIN:VEVENT
DTSTART;TZID=UTC:20250108T090000
DTEND;TZID=UTC:20250108T100000
DTSTAMP:20260423T183728
CREATED:20241105T013330Z
LAST-MODIFIED:20241106T235406Z
UID:10000947-1736326800-1736330400@crosslifechurchvt.org
SUMMARY:Prayer Group
DESCRIPTION:Come join us for a time of prayer.
URL:https://crosslifechurchvt.org/event/prayer-group/2025-01-08/
LOCATION:Cross Life Church\, 1759 US Route 7\, Ferrisburgh\, VT\, 05491\, United States
ATTACH;FMTTYPE=image/jpeg:https://crosslifechurchvt.org/wp-content/uploads/2024/11/olivia-snow-CPPFtCHY6mo-unsplash-scaled.jpg
ORGANIZER;CN="Bill Schmidt":MAILTO:office@crosslifechurchvt.org
END:VEVENT
BEGIN:VEVENT
DTSTART;TZID=UTC:20250105T090000
DTEND;TZID=UTC:20250105T094500
DTSTAMP:20260423T183728
CREATED:20241105T015717Z
LAST-MODIFIED:20241105T022203Z
UID:10000686-1736067600-1736070300@crosslifechurchvt.org
SUMMARY:Adult Sunday School
DESCRIPTION:Bring your bible\, writing utensil\, and notepad\, grab a cup of coffee and join us for fellowship and learning.
URL:https://crosslifechurchvt.org/event/adult-sunday-school-2/2025-01-05/
LOCATION:Cross Life Church\, 1759 US Route 7\, Ferrisburgh\, VT\, 05491\, United States
ATTACH;FMTTYPE=image/jpeg:https://crosslifechurchvt.org/wp-content/uploads/2022/06/bible-scaled-e1656616894798.jpg
ORGANIZER;CN="Bill Schmidt":MAILTO:office@crosslifechurchvt.org
END:VEVENT
BEGIN:VEVENT
DTSTART;TZID=UTC:20250101T090000
DTEND;TZID=UTC:20250101T100000
DTSTAMP:20260423T183728
CREATED:20241105T013330Z
LAST-MODIFIED:20241106T235406Z
UID:10000946-1735722000-1735725600@crosslifechurchvt.org
SUMMARY:Prayer Group
DESCRIPTION:Come join us for a time of prayer.
URL:https://crosslifechurchvt.org/event/prayer-group/2025-01-01/
LOCATION:Cross Life Church\, 1759 US Route 7\, Ferrisburgh\, VT\, 05491\, United States
ATTACH;FMTTYPE=image/jpeg:https://crosslifechurchvt.org/wp-content/uploads/2024/11/olivia-snow-CPPFtCHY6mo-unsplash-scaled.jpg
ORGANIZER;CN="Bill Schmidt":MAILTO:office@crosslifechurchvt.org
END:VEVENT
BEGIN:VEVENT
DTSTART;TZID=UTC:20241229T090000
DTEND;TZID=UTC:20241229T094500
DTSTAMP:20260423T183728
CREATED:20241105T015717Z
LAST-MODIFIED:20241105T022203Z
UID:10000685-1735462800-1735465500@crosslifechurchvt.org
SUMMARY:Adult Sunday School
DESCRIPTION:Bring your bible\, writing utensil\, and notepad\, grab a cup of coffee and join us for fellowship and learning.
URL:https://crosslifechurchvt.org/event/adult-sunday-school-2/2024-12-29/
LOCATION:Cross Life Church\, 1759 US Route 7\, Ferrisburgh\, VT\, 05491\, United States
ATTACH;FMTTYPE=image/jpeg:https://crosslifechurchvt.org/wp-content/uploads/2022/06/bible-scaled-e1656616894798.jpg
ORGANIZER;CN="Bill Schmidt":MAILTO:office@crosslifechurchvt.org
END:VEVENT
BEGIN:VEVENT
DTSTART;TZID=UTC:20241222T090000
DTEND;TZID=UTC:20241222T094500
DTSTAMP:20260423T183728
CREATED:20241105T015717Z
LAST-MODIFIED:20241105T022203Z
UID:10000684-1734858000-1734860700@crosslifechurchvt.org
SUMMARY:Adult Sunday School
DESCRIPTION:Bring your bible\, writing utensil\, and notepad\, grab a cup of coffee and join us for fellowship and learning.
URL:https://crosslifechurchvt.org/event/adult-sunday-school-2/2024-12-22/
LOCATION:Cross Life Church\, 1759 US Route 7\, Ferrisburgh\, VT\, 05491\, United States
ATTACH;FMTTYPE=image/jpeg:https://crosslifechurchvt.org/wp-content/uploads/2022/06/bible-scaled-e1656616894798.jpg
ORGANIZER;CN="Bill Schmidt":MAILTO:office@crosslifechurchvt.org
END:VEVENT
BEGIN:VEVENT
DTSTART;TZID=UTC:20241218T090000
DTEND;TZID=UTC:20241218T100000
DTSTAMP:20260423T183728
CREATED:20241105T013330Z
LAST-MODIFIED:20241106T235406Z
UID:10000945-1734512400-1734516000@crosslifechurchvt.org
SUMMARY:Prayer Group
DESCRIPTION:Come join us for a time of prayer.
URL:https://crosslifechurchvt.org/event/prayer-group/2024-12-18/
LOCATION:Cross Life Church\, 1759 US Route 7\, Ferrisburgh\, VT\, 05491\, United States
ATTACH;FMTTYPE=image/jpeg:https://crosslifechurchvt.org/wp-content/uploads/2024/11/olivia-snow-CPPFtCHY6mo-unsplash-scaled.jpg
ORGANIZER;CN="Bill Schmidt":MAILTO:office@crosslifechurchvt.org
END:VEVENT
BEGIN:VEVENT
DTSTART;TZID=UTC:20241215T090000
DTEND;TZID=UTC:20241215T094500
DTSTAMP:20260423T183729
CREATED:20241105T015717Z
LAST-MODIFIED:20241105T022203Z
UID:10000683-1734253200-1734255900@crosslifechurchvt.org
SUMMARY:Adult Sunday School
DESCRIPTION:Bring your bible\, writing utensil\, and notepad\, grab a cup of coffee and join us for fellowship and learning.
URL:https://crosslifechurchvt.org/event/adult-sunday-school-2/2024-12-15/
LOCATION:Cross Life Church\, 1759 US Route 7\, Ferrisburgh\, VT\, 05491\, United States
ATTACH;FMTTYPE=image/jpeg:https://crosslifechurchvt.org/wp-content/uploads/2022/06/bible-scaled-e1656616894798.jpg
ORGANIZER;CN="Bill Schmidt":MAILTO:office@crosslifechurchvt.org
END:VEVENT
BEGIN:VEVENT
DTSTART;TZID=UTC:20241211T090000
DTEND;TZID=UTC:20241211T100000
DTSTAMP:20260423T183729
CREATED:20241105T013330Z
LAST-MODIFIED:20241106T235406Z
UID:10000944-1733907600-1733911200@crosslifechurchvt.org
SUMMARY:Prayer Group
DESCRIPTION:Come join us for a time of prayer.
URL:https://crosslifechurchvt.org/event/prayer-group/2024-12-11/
LOCATION:Cross Life Church\, 1759 US Route 7\, Ferrisburgh\, VT\, 05491\, United States
ATTACH;FMTTYPE=image/jpeg:https://crosslifechurchvt.org/wp-content/uploads/2024/11/olivia-snow-CPPFtCHY6mo-unsplash-scaled.jpg
ORGANIZER;CN="Bill Schmidt":MAILTO:office@crosslifechurchvt.org
END:VEVENT
BEGIN:VEVENT
DTSTART;TZID=UTC:20241208T090000
DTEND;TZID=UTC:20241208T094500
DTSTAMP:20260423T183729
CREATED:20241105T015717Z
LAST-MODIFIED:20241105T022203Z
UID:10000682-1733648400-1733651100@crosslifechurchvt.org
SUMMARY:Adult Sunday School
DESCRIPTION:Bring your bible\, writing utensil\, and notepad\, grab a cup of coffee and join us for fellowship and learning.
URL:https://crosslifechurchvt.org/event/adult-sunday-school-2/2024-12-08/
LOCATION:Cross Life Church\, 1759 US Route 7\, Ferrisburgh\, VT\, 05491\, United States
ATTACH;FMTTYPE=image/jpeg:https://crosslifechurchvt.org/wp-content/uploads/2022/06/bible-scaled-e1656616894798.jpg
ORGANIZER;CN="Bill Schmidt":MAILTO:office@crosslifechurchvt.org
END:VEVENT
BEGIN:VEVENT
DTSTART;TZID=UTC:20241204T090000
DTEND;TZID=UTC:20241204T100000
DTSTAMP:20260423T183729
CREATED:20241105T013330Z
LAST-MODIFIED:20241106T235406Z
UID:10000943-1733302800-1733306400@crosslifechurchvt.org
SUMMARY:Prayer Group
DESCRIPTION:Come join us for a time of prayer.
URL:https://crosslifechurchvt.org/event/prayer-group/2024-12-04/
LOCATION:Cross Life Church\, 1759 US Route 7\, Ferrisburgh\, VT\, 05491\, United States
ATTACH;FMTTYPE=image/jpeg:https://crosslifechurchvt.org/wp-content/uploads/2024/11/olivia-snow-CPPFtCHY6mo-unsplash-scaled.jpg
ORGANIZER;CN="Bill Schmidt":MAILTO:office@crosslifechurchvt.org
END:VEVENT
BEGIN:VEVENT
DTSTART;TZID=UTC:20241201T090000
DTEND;TZID=UTC:20241201T094500
DTSTAMP:20260423T183729
CREATED:20241105T015717Z
LAST-MODIFIED:20241105T022203Z
UID:10000681-1733043600-1733046300@crosslifechurchvt.org
SUMMARY:Adult Sunday School
DESCRIPTION:Bring your bible\, writing utensil\, and notepad\, grab a cup of coffee and join us for fellowship and learning.
URL:https://crosslifechurchvt.org/event/adult-sunday-school-2/2024-12-01/
LOCATION:Cross Life Church\, 1759 US Route 7\, Ferrisburgh\, VT\, 05491\, United States
ATTACH;FMTTYPE=image/jpeg:https://crosslifechurchvt.org/wp-content/uploads/2022/06/bible-scaled-e1656616894798.jpg
ORGANIZER;CN="Bill Schmidt":MAILTO:office@crosslifechurchvt.org
END:VEVENT
BEGIN:VEVENT
DTSTART;TZID=UTC:20241127T090000
DTEND;TZID=UTC:20241127T100000
DTSTAMP:20260423T183729
CREATED:20241105T013330Z
LAST-MODIFIED:20241106T235406Z
UID:10000942-1732698000-1732701600@crosslifechurchvt.org
SUMMARY:Prayer Group
DESCRIPTION:Come join us for a time of prayer.
URL:https://crosslifechurchvt.org/event/prayer-group/2024-11-27/
LOCATION:Cross Life Church\, 1759 US Route 7\, Ferrisburgh\, VT\, 05491\, United States
ATTACH;FMTTYPE=image/jpeg:https://crosslifechurchvt.org/wp-content/uploads/2024/11/olivia-snow-CPPFtCHY6mo-unsplash-scaled.jpg
ORGANIZER;CN="Bill Schmidt":MAILTO:office@crosslifechurchvt.org
END:VEVENT
BEGIN:VEVENT
DTSTART;TZID=UTC:20241124T090000
DTEND;TZID=UTC:20241124T094500
DTSTAMP:20260423T183729
CREATED:20241105T015717Z
LAST-MODIFIED:20241105T022203Z
UID:10000680-1732438800-1732441500@crosslifechurchvt.org
SUMMARY:Adult Sunday School
DESCRIPTION:Bring your bible\, writing utensil\, and notepad\, grab a cup of coffee and join us for fellowship and learning.
URL:https://crosslifechurchvt.org/event/adult-sunday-school-2/2024-11-24/
LOCATION:Cross Life Church\, 1759 US Route 7\, Ferrisburgh\, VT\, 05491\, United States
ATTACH;FMTTYPE=image/jpeg:https://crosslifechurchvt.org/wp-content/uploads/2022/06/bible-scaled-e1656616894798.jpg
ORGANIZER;CN="Bill Schmidt":MAILTO:office@crosslifechurchvt.org
END:VEVENT
BEGIN:VEVENT
DTSTART;TZID=UTC:20241120T090000
DTEND;TZID=UTC:20241120T100000
DTSTAMP:20260423T183729
CREATED:20241105T013330Z
LAST-MODIFIED:20241106T235406Z
UID:10000941-1732093200-1732096800@crosslifechurchvt.org
SUMMARY:Prayer Group
DESCRIPTION:Come join us for a time of prayer.
URL:https://crosslifechurchvt.org/event/prayer-group/2024-11-20/
LOCATION:Cross Life Church\, 1759 US Route 7\, Ferrisburgh\, VT\, 05491\, United States
ATTACH;FMTTYPE=image/jpeg:https://crosslifechurchvt.org/wp-content/uploads/2024/11/olivia-snow-CPPFtCHY6mo-unsplash-scaled.jpg
ORGANIZER;CN="Bill Schmidt":MAILTO:office@crosslifechurchvt.org
END:VEVENT
BEGIN:VEVENT
DTSTART;TZID=UTC:20241117T090000
DTEND;TZID=UTC:20241117T094500
DTSTAMP:20260423T183729
CREATED:20241105T015717Z
LAST-MODIFIED:20241105T022203Z
UID:10000679-1731834000-1731836700@crosslifechurchvt.org
SUMMARY:Adult Sunday School
DESCRIPTION:Bring your bible\, writing utensil\, and notepad\, grab a cup of coffee and join us for fellowship and learning.
URL:https://crosslifechurchvt.org/event/adult-sunday-school-2/2024-11-17/
LOCATION:Cross Life Church\, 1759 US Route 7\, Ferrisburgh\, VT\, 05491\, United States
ATTACH;FMTTYPE=image/jpeg:https://crosslifechurchvt.org/wp-content/uploads/2022/06/bible-scaled-e1656616894798.jpg
ORGANIZER;CN="Bill Schmidt":MAILTO:office@crosslifechurchvt.org
END:VEVENT
BEGIN:VEVENT
DTSTART;TZID=UTC:20241113T090000
DTEND;TZID=UTC:20241113T100000
DTSTAMP:20260423T183729
CREATED:20241105T013330Z
LAST-MODIFIED:20241106T235406Z
UID:10000940-1731488400-1731492000@crosslifechurchvt.org
SUMMARY:Prayer Group
DESCRIPTION:Come join us for a time of prayer.
URL:https://crosslifechurchvt.org/event/prayer-group/2024-11-13/
LOCATION:Cross Life Church\, 1759 US Route 7\, Ferrisburgh\, VT\, 05491\, United States
ATTACH;FMTTYPE=image/jpeg:https://crosslifechurchvt.org/wp-content/uploads/2024/11/olivia-snow-CPPFtCHY6mo-unsplash-scaled.jpg
ORGANIZER;CN="Bill Schmidt":MAILTO:office@crosslifechurchvt.org
END:VEVENT
BEGIN:VEVENT
DTSTART;TZID=UTC:20241110T090000
DTEND;TZID=UTC:20241110T094500
DTSTAMP:20260423T183729
CREATED:20241105T015717Z
LAST-MODIFIED:20241105T022203Z
UID:10000678-1731229200-1731231900@crosslifechurchvt.org
SUMMARY:Adult Sunday School
DESCRIPTION:Bring your bible\, writing utensil\, and notepad\, grab a cup of coffee and join us for fellowship and learning.
URL:https://crosslifechurchvt.org/event/adult-sunday-school-2/2024-11-10/
LOCATION:Cross Life Church\, 1759 US Route 7\, Ferrisburgh\, VT\, 05491\, United States
ATTACH;FMTTYPE=image/jpeg:https://crosslifechurchvt.org/wp-content/uploads/2022/06/bible-scaled-e1656616894798.jpg
ORGANIZER;CN="Bill Schmidt":MAILTO:office@crosslifechurchvt.org
END:VEVENT
BEGIN:VEVENT
DTSTART;TZID=UTC:20241106T090000
DTEND;TZID=UTC:20241106T100000
DTSTAMP:20260423T183729
CREATED:20241105T013330Z
LAST-MODIFIED:20241106T235406Z
UID:10000939-1730883600-1730887200@crosslifechurchvt.org
SUMMARY:Prayer Group
DESCRIPTION:Come join us for a time of prayer.
URL:https://crosslifechurchvt.org/event/prayer-group/2024-11-06/
LOCATION:Cross Life Church\, 1759 US Route 7\, Ferrisburgh\, VT\, 05491\, United States
ATTACH;FMTTYPE=image/jpeg:https://crosslifechurchvt.org/wp-content/uploads/2024/11/olivia-snow-CPPFtCHY6mo-unsplash-scaled.jpg
ORGANIZER;CN="Bill Schmidt":MAILTO:office@crosslifechurchvt.org
END:VEVENT
BEGIN:VEVENT
DTSTART;TZID=UTC:20241103T090000
DTEND;TZID=UTC:20241103T094500
DTSTAMP:20260423T183729
CREATED:20241104T184739Z
LAST-MODIFIED:20241104T184739Z
UID:10000677-1730624400-1730627100@crosslifechurchvt.org
SUMMARY:Adult Sunday School
DESCRIPTION:
URL:https://crosslifechurchvt.org/event/adult-sunday-school/
LOCATION:Cross Life Church\, 1759 US Route 7\, Ferrisburgh\, VT\, 05491\, United States
ORGANIZER;CN="Bill Schmidt":MAILTO:office@crosslifechurchvt.org
END:VEVENT
END:VCALENDAR