BEGIN:VCALENDAR
VERSION:2.0
PRODID:-//Cross Life Church - ECPv6.15.17.1//NONSGML v1.0//EN
CALSCALE:GREGORIAN
METHOD:PUBLISH
X-WR-CALNAME:Cross Life Church
X-ORIGINAL-URL:https://crosslifechurchvt.org
X-WR-CALDESC:Events for Cross Life Church
REFRESH-INTERVAL;VALUE=DURATION:PT1H
X-Robots-Tag:noindex
X-PUBLISHED-TTL:PT1H
BEGIN:VTIMEZONE
TZID:UTC
BEGIN:STANDARD
TZOFFSETFROM:+0000
TZOFFSETTO:+0000
TZNAME:UTC
DTSTART:20230101T000000
END:STANDARD
END:VTIMEZONE
BEGIN:VEVENT
DTSTART;TZID=UTC:20241201T090000
DTEND;TZID=UTC:20241201T094500
DTSTAMP:20260423T201436
CREATED:20241105T015717Z
LAST-MODIFIED:20241105T022203Z
UID:10000681-1733043600-1733046300@crosslifechurchvt.org
SUMMARY:Adult Sunday School
DESCRIPTION:Bring your bible\, writing utensil\, and notepad\, grab a cup of coffee and join us for fellowship and learning.
URL:https://crosslifechurchvt.org/event/adult-sunday-school-2/2024-12-01/
LOCATION:Cross Life Church\, 1759 US Route 7\, Ferrisburgh\, VT\, 05491\, United States
ATTACH;FMTTYPE=image/jpeg:https://crosslifechurchvt.org/wp-content/uploads/2022/06/bible-scaled-e1656616894798.jpg
ORGANIZER;CN="Bill Schmidt":MAILTO:office@crosslifechurchvt.org
END:VEVENT
BEGIN:VEVENT
DTSTART;TZID=UTC:20241127T090000
DTEND;TZID=UTC:20241127T100000
DTSTAMP:20260423T201436
CREATED:20241105T013330Z
LAST-MODIFIED:20241106T235406Z
UID:10000942-1732698000-1732701600@crosslifechurchvt.org
SUMMARY:Prayer Group
DESCRIPTION:Come join us for a time of prayer.
URL:https://crosslifechurchvt.org/event/prayer-group/2024-11-27/
LOCATION:Cross Life Church\, 1759 US Route 7\, Ferrisburgh\, VT\, 05491\, United States
ATTACH;FMTTYPE=image/jpeg:https://crosslifechurchvt.org/wp-content/uploads/2024/11/olivia-snow-CPPFtCHY6mo-unsplash-scaled.jpg
ORGANIZER;CN="Bill Schmidt":MAILTO:office@crosslifechurchvt.org
END:VEVENT
BEGIN:VEVENT
DTSTART;TZID=UTC:20241124T090000
DTEND;TZID=UTC:20241124T094500
DTSTAMP:20260423T201436
CREATED:20241105T015717Z
LAST-MODIFIED:20241105T022203Z
UID:10000680-1732438800-1732441500@crosslifechurchvt.org
SUMMARY:Adult Sunday School
DESCRIPTION:Bring your bible\, writing utensil\, and notepad\, grab a cup of coffee and join us for fellowship and learning.
URL:https://crosslifechurchvt.org/event/adult-sunday-school-2/2024-11-24/
LOCATION:Cross Life Church\, 1759 US Route 7\, Ferrisburgh\, VT\, 05491\, United States
ATTACH;FMTTYPE=image/jpeg:https://crosslifechurchvt.org/wp-content/uploads/2022/06/bible-scaled-e1656616894798.jpg
ORGANIZER;CN="Bill Schmidt":MAILTO:office@crosslifechurchvt.org
END:VEVENT
BEGIN:VEVENT
DTSTART;TZID=UTC:20241120T090000
DTEND;TZID=UTC:20241120T100000
DTSTAMP:20260423T201436
CREATED:20241105T013330Z
LAST-MODIFIED:20241106T235406Z
UID:10000941-1732093200-1732096800@crosslifechurchvt.org
SUMMARY:Prayer Group
DESCRIPTION:Come join us for a time of prayer.
URL:https://crosslifechurchvt.org/event/prayer-group/2024-11-20/
LOCATION:Cross Life Church\, 1759 US Route 7\, Ferrisburgh\, VT\, 05491\, United States
ATTACH;FMTTYPE=image/jpeg:https://crosslifechurchvt.org/wp-content/uploads/2024/11/olivia-snow-CPPFtCHY6mo-unsplash-scaled.jpg
ORGANIZER;CN="Bill Schmidt":MAILTO:office@crosslifechurchvt.org
END:VEVENT
BEGIN:VEVENT
DTSTART;TZID=UTC:20241117T090000
DTEND;TZID=UTC:20241117T094500
DTSTAMP:20260423T201436
CREATED:20241105T015717Z
LAST-MODIFIED:20241105T022203Z
UID:10000679-1731834000-1731836700@crosslifechurchvt.org
SUMMARY:Adult Sunday School
DESCRIPTION:Bring your bible\, writing utensil\, and notepad\, grab a cup of coffee and join us for fellowship and learning.
URL:https://crosslifechurchvt.org/event/adult-sunday-school-2/2024-11-17/
LOCATION:Cross Life Church\, 1759 US Route 7\, Ferrisburgh\, VT\, 05491\, United States
ATTACH;FMTTYPE=image/jpeg:https://crosslifechurchvt.org/wp-content/uploads/2022/06/bible-scaled-e1656616894798.jpg
ORGANIZER;CN="Bill Schmidt":MAILTO:office@crosslifechurchvt.org
END:VEVENT
BEGIN:VEVENT
DTSTART;TZID=UTC:20241113T090000
DTEND;TZID=UTC:20241113T100000
DTSTAMP:20260423T201436
CREATED:20241105T013330Z
LAST-MODIFIED:20241106T235406Z
UID:10000940-1731488400-1731492000@crosslifechurchvt.org
SUMMARY:Prayer Group
DESCRIPTION:Come join us for a time of prayer.
URL:https://crosslifechurchvt.org/event/prayer-group/2024-11-13/
LOCATION:Cross Life Church\, 1759 US Route 7\, Ferrisburgh\, VT\, 05491\, United States
ATTACH;FMTTYPE=image/jpeg:https://crosslifechurchvt.org/wp-content/uploads/2024/11/olivia-snow-CPPFtCHY6mo-unsplash-scaled.jpg
ORGANIZER;CN="Bill Schmidt":MAILTO:office@crosslifechurchvt.org
END:VEVENT
BEGIN:VEVENT
DTSTART;TZID=UTC:20241110T090000
DTEND;TZID=UTC:20241110T094500
DTSTAMP:20260423T201436
CREATED:20241105T015717Z
LAST-MODIFIED:20241105T022203Z
UID:10000678-1731229200-1731231900@crosslifechurchvt.org
SUMMARY:Adult Sunday School
DESCRIPTION:Bring your bible\, writing utensil\, and notepad\, grab a cup of coffee and join us for fellowship and learning.
URL:https://crosslifechurchvt.org/event/adult-sunday-school-2/2024-11-10/
LOCATION:Cross Life Church\, 1759 US Route 7\, Ferrisburgh\, VT\, 05491\, United States
ATTACH;FMTTYPE=image/jpeg:https://crosslifechurchvt.org/wp-content/uploads/2022/06/bible-scaled-e1656616894798.jpg
ORGANIZER;CN="Bill Schmidt":MAILTO:office@crosslifechurchvt.org
END:VEVENT
BEGIN:VEVENT
DTSTART;TZID=UTC:20241106T090000
DTEND;TZID=UTC:20241106T100000
DTSTAMP:20260423T201436
CREATED:20241105T013330Z
LAST-MODIFIED:20241106T235406Z
UID:10000939-1730883600-1730887200@crosslifechurchvt.org
SUMMARY:Prayer Group
DESCRIPTION:Come join us for a time of prayer.
URL:https://crosslifechurchvt.org/event/prayer-group/2024-11-06/
LOCATION:Cross Life Church\, 1759 US Route 7\, Ferrisburgh\, VT\, 05491\, United States
ATTACH;FMTTYPE=image/jpeg:https://crosslifechurchvt.org/wp-content/uploads/2024/11/olivia-snow-CPPFtCHY6mo-unsplash-scaled.jpg
ORGANIZER;CN="Bill Schmidt":MAILTO:office@crosslifechurchvt.org
END:VEVENT
BEGIN:VEVENT
DTSTART;TZID=UTC:20241103T090000
DTEND;TZID=UTC:20241103T094500
DTSTAMP:20260423T201436
CREATED:20241104T184739Z
LAST-MODIFIED:20241104T184739Z
UID:10000677-1730624400-1730627100@crosslifechurchvt.org
SUMMARY:Adult Sunday School
DESCRIPTION:
URL:https://crosslifechurchvt.org/event/adult-sunday-school/
LOCATION:Cross Life Church\, 1759 US Route 7\, Ferrisburgh\, VT\, 05491\, United States
ORGANIZER;CN="Bill Schmidt":MAILTO:office@crosslifechurchvt.org
END:VEVENT
END:VCALENDAR