BEGIN:VCALENDAR
VERSION:2.0
PRODID:-//Cross Life Church - ECPv6.15.17.1//NONSGML v1.0//EN
CALSCALE:GREGORIAN
METHOD:PUBLISH
X-WR-CALNAME:Cross Life Church
X-ORIGINAL-URL:https://crosslifechurchvt.org
X-WR-CALDESC:Events for Cross Life Church
REFRESH-INTERVAL;VALUE=DURATION:PT1H
X-Robots-Tag:noindex
X-PUBLISHED-TTL:PT1H
BEGIN:VTIMEZONE
TZID:UTC
BEGIN:STANDARD
TZOFFSETFROM:+0000
TZOFFSETTO:+0000
TZNAME:UTC
DTSTART:20240101T000000
END:STANDARD
END:VTIMEZONE
BEGIN:VEVENT
DTSTART;TZID=UTC:20250702T090000
DTEND;TZID=UTC:20250702T100000
DTSTAMP:20260423T120035
CREATED:20241105T013330Z
LAST-MODIFIED:20241106T235406Z
UID:10000972-1751446800-1751450400@crosslifechurchvt.org
SUMMARY:Prayer Group
DESCRIPTION:Come join us for a time of prayer.
URL:https://crosslifechurchvt.org/event/prayer-group/2025-07-02/
LOCATION:Cross Life Church\, 1759 US Route 7\, Ferrisburgh\, VT\, 05491\, United States
ATTACH;FMTTYPE=image/jpeg:https://crosslifechurchvt.org/wp-content/uploads/2024/11/olivia-snow-CPPFtCHY6mo-unsplash-scaled.jpg
ORGANIZER;CN="Bill Schmidt":MAILTO:office@crosslifechurchvt.org
END:VEVENT
BEGIN:VEVENT
DTSTART;TZID=UTC:20250629T090000
DTEND;TZID=UTC:20250629T094500
DTSTAMP:20260423T120035
CREATED:20241105T015717Z
LAST-MODIFIED:20241105T022203Z
UID:10000711-1751187600-1751190300@crosslifechurchvt.org
SUMMARY:Adult Sunday School
DESCRIPTION:Bring your bible\, writing utensil\, and notepad\, grab a cup of coffee and join us for fellowship and learning.
URL:https://crosslifechurchvt.org/event/adult-sunday-school-2/2025-06-29/
LOCATION:Cross Life Church\, 1759 US Route 7\, Ferrisburgh\, VT\, 05491\, United States
ATTACH;FMTTYPE=image/jpeg:https://crosslifechurchvt.org/wp-content/uploads/2022/06/bible-scaled-e1656616894798.jpg
ORGANIZER;CN="Bill Schmidt":MAILTO:office@crosslifechurchvt.org
END:VEVENT
BEGIN:VEVENT
DTSTART;TZID=UTC:20250625T090000
DTEND;TZID=UTC:20250625T100000
DTSTAMP:20260423T120035
CREATED:20241105T013330Z
LAST-MODIFIED:20241106T235406Z
UID:10000971-1750842000-1750845600@crosslifechurchvt.org
SUMMARY:Prayer Group
DESCRIPTION:Come join us for a time of prayer.
URL:https://crosslifechurchvt.org/event/prayer-group/2025-06-25/
LOCATION:Cross Life Church\, 1759 US Route 7\, Ferrisburgh\, VT\, 05491\, United States
ATTACH;FMTTYPE=image/jpeg:https://crosslifechurchvt.org/wp-content/uploads/2024/11/olivia-snow-CPPFtCHY6mo-unsplash-scaled.jpg
ORGANIZER;CN="Bill Schmidt":MAILTO:office@crosslifechurchvt.org
END:VEVENT
BEGIN:VEVENT
DTSTART;TZID=UTC:20250622T090000
DTEND;TZID=UTC:20250622T094500
DTSTAMP:20260423T120035
CREATED:20241105T015717Z
LAST-MODIFIED:20241105T022203Z
UID:10000710-1750582800-1750585500@crosslifechurchvt.org
SUMMARY:Adult Sunday School
DESCRIPTION:Bring your bible\, writing utensil\, and notepad\, grab a cup of coffee and join us for fellowship and learning.
URL:https://crosslifechurchvt.org/event/adult-sunday-school-2/2025-06-22/
LOCATION:Cross Life Church\, 1759 US Route 7\, Ferrisburgh\, VT\, 05491\, United States
ATTACH;FMTTYPE=image/jpeg:https://crosslifechurchvt.org/wp-content/uploads/2022/06/bible-scaled-e1656616894798.jpg
ORGANIZER;CN="Bill Schmidt":MAILTO:office@crosslifechurchvt.org
END:VEVENT
BEGIN:VEVENT
DTSTART;TZID=UTC:20250618T090000
DTEND;TZID=UTC:20250618T100000
DTSTAMP:20260423T120035
CREATED:20241105T013330Z
LAST-MODIFIED:20241106T235406Z
UID:10000970-1750237200-1750240800@crosslifechurchvt.org
SUMMARY:Prayer Group
DESCRIPTION:Come join us for a time of prayer.
URL:https://crosslifechurchvt.org/event/prayer-group/2025-06-18/
LOCATION:Cross Life Church\, 1759 US Route 7\, Ferrisburgh\, VT\, 05491\, United States
ATTACH;FMTTYPE=image/jpeg:https://crosslifechurchvt.org/wp-content/uploads/2024/11/olivia-snow-CPPFtCHY6mo-unsplash-scaled.jpg
ORGANIZER;CN="Bill Schmidt":MAILTO:office@crosslifechurchvt.org
END:VEVENT
BEGIN:VEVENT
DTSTART;TZID=UTC:20250615T090000
DTEND;TZID=UTC:20250615T094500
DTSTAMP:20260423T120035
CREATED:20241105T015717Z
LAST-MODIFIED:20241105T022203Z
UID:10000709-1749978000-1749980700@crosslifechurchvt.org
SUMMARY:Adult Sunday School
DESCRIPTION:Bring your bible\, writing utensil\, and notepad\, grab a cup of coffee and join us for fellowship and learning.
URL:https://crosslifechurchvt.org/event/adult-sunday-school-2/2025-06-15/
LOCATION:Cross Life Church\, 1759 US Route 7\, Ferrisburgh\, VT\, 05491\, United States
ATTACH;FMTTYPE=image/jpeg:https://crosslifechurchvt.org/wp-content/uploads/2022/06/bible-scaled-e1656616894798.jpg
ORGANIZER;CN="Bill Schmidt":MAILTO:office@crosslifechurchvt.org
END:VEVENT
BEGIN:VEVENT
DTSTART;TZID=UTC:20250611T090000
DTEND;TZID=UTC:20250611T100000
DTSTAMP:20260423T120035
CREATED:20241105T013330Z
LAST-MODIFIED:20241106T235406Z
UID:10000969-1749632400-1749636000@crosslifechurchvt.org
SUMMARY:Prayer Group
DESCRIPTION:Come join us for a time of prayer.
URL:https://crosslifechurchvt.org/event/prayer-group/2025-06-11/
LOCATION:Cross Life Church\, 1759 US Route 7\, Ferrisburgh\, VT\, 05491\, United States
ATTACH;FMTTYPE=image/jpeg:https://crosslifechurchvt.org/wp-content/uploads/2024/11/olivia-snow-CPPFtCHY6mo-unsplash-scaled.jpg
ORGANIZER;CN="Bill Schmidt":MAILTO:office@crosslifechurchvt.org
END:VEVENT
BEGIN:VEVENT
DTSTART;TZID=UTC:20250608T090000
DTEND;TZID=UTC:20250608T094500
DTSTAMP:20260423T120035
CREATED:20241105T015717Z
LAST-MODIFIED:20241105T022203Z
UID:10000708-1749373200-1749375900@crosslifechurchvt.org
SUMMARY:Adult Sunday School
DESCRIPTION:Bring your bible\, writing utensil\, and notepad\, grab a cup of coffee and join us for fellowship and learning.
URL:https://crosslifechurchvt.org/event/adult-sunday-school-2/2025-06-08/
LOCATION:Cross Life Church\, 1759 US Route 7\, Ferrisburgh\, VT\, 05491\, United States
ATTACH;FMTTYPE=image/jpeg:https://crosslifechurchvt.org/wp-content/uploads/2022/06/bible-scaled-e1656616894798.jpg
ORGANIZER;CN="Bill Schmidt":MAILTO:office@crosslifechurchvt.org
END:VEVENT
BEGIN:VEVENT
DTSTART;TZID=UTC:20250604T090000
DTEND;TZID=UTC:20250604T100000
DTSTAMP:20260423T120035
CREATED:20241105T013330Z
LAST-MODIFIED:20241106T235406Z
UID:10000968-1749027600-1749031200@crosslifechurchvt.org
SUMMARY:Prayer Group
DESCRIPTION:Come join us for a time of prayer.
URL:https://crosslifechurchvt.org/event/prayer-group/2025-06-04/
LOCATION:Cross Life Church\, 1759 US Route 7\, Ferrisburgh\, VT\, 05491\, United States
ATTACH;FMTTYPE=image/jpeg:https://crosslifechurchvt.org/wp-content/uploads/2024/11/olivia-snow-CPPFtCHY6mo-unsplash-scaled.jpg
ORGANIZER;CN="Bill Schmidt":MAILTO:office@crosslifechurchvt.org
END:VEVENT
BEGIN:VEVENT
DTSTART;TZID=UTC:20250601T090000
DTEND;TZID=UTC:20250601T094500
DTSTAMP:20260423T120035
CREATED:20241105T015717Z
LAST-MODIFIED:20241105T022203Z
UID:10000707-1748768400-1748771100@crosslifechurchvt.org
SUMMARY:Adult Sunday School
DESCRIPTION:Bring your bible\, writing utensil\, and notepad\, grab a cup of coffee and join us for fellowship and learning.
URL:https://crosslifechurchvt.org/event/adult-sunday-school-2/2025-06-01/
LOCATION:Cross Life Church\, 1759 US Route 7\, Ferrisburgh\, VT\, 05491\, United States
ATTACH;FMTTYPE=image/jpeg:https://crosslifechurchvt.org/wp-content/uploads/2022/06/bible-scaled-e1656616894798.jpg
ORGANIZER;CN="Bill Schmidt":MAILTO:office@crosslifechurchvt.org
END:VEVENT
BEGIN:VEVENT
DTSTART;TZID=UTC:20250528T090000
DTEND;TZID=UTC:20250528T100000
DTSTAMP:20260423T120035
CREATED:20241105T013330Z
LAST-MODIFIED:20241106T235406Z
UID:10000967-1748422800-1748426400@crosslifechurchvt.org
SUMMARY:Prayer Group
DESCRIPTION:Come join us for a time of prayer.
URL:https://crosslifechurchvt.org/event/prayer-group/2025-05-28/
LOCATION:Cross Life Church\, 1759 US Route 7\, Ferrisburgh\, VT\, 05491\, United States
ATTACH;FMTTYPE=image/jpeg:https://crosslifechurchvt.org/wp-content/uploads/2024/11/olivia-snow-CPPFtCHY6mo-unsplash-scaled.jpg
ORGANIZER;CN="Bill Schmidt":MAILTO:office@crosslifechurchvt.org
END:VEVENT
BEGIN:VEVENT
DTSTART;TZID=UTC:20250525T090000
DTEND;TZID=UTC:20250525T094500
DTSTAMP:20260423T120035
CREATED:20241105T015717Z
LAST-MODIFIED:20241105T022203Z
UID:10000706-1748163600-1748166300@crosslifechurchvt.org
SUMMARY:Adult Sunday School
DESCRIPTION:Bring your bible\, writing utensil\, and notepad\, grab a cup of coffee and join us for fellowship and learning.
URL:https://crosslifechurchvt.org/event/adult-sunday-school-2/2025-05-25/
LOCATION:Cross Life Church\, 1759 US Route 7\, Ferrisburgh\, VT\, 05491\, United States
ATTACH;FMTTYPE=image/jpeg:https://crosslifechurchvt.org/wp-content/uploads/2022/06/bible-scaled-e1656616894798.jpg
ORGANIZER;CN="Bill Schmidt":MAILTO:office@crosslifechurchvt.org
END:VEVENT
BEGIN:VEVENT
DTSTART;TZID=UTC:20250521T090000
DTEND;TZID=UTC:20250521T100000
DTSTAMP:20260423T120035
CREATED:20241105T013330Z
LAST-MODIFIED:20241106T235406Z
UID:10000966-1747818000-1747821600@crosslifechurchvt.org
SUMMARY:Prayer Group
DESCRIPTION:Come join us for a time of prayer.
URL:https://crosslifechurchvt.org/event/prayer-group/2025-05-21/
LOCATION:Cross Life Church\, 1759 US Route 7\, Ferrisburgh\, VT\, 05491\, United States
ATTACH;FMTTYPE=image/jpeg:https://crosslifechurchvt.org/wp-content/uploads/2024/11/olivia-snow-CPPFtCHY6mo-unsplash-scaled.jpg
ORGANIZER;CN="Bill Schmidt":MAILTO:office@crosslifechurchvt.org
END:VEVENT
BEGIN:VEVENT
DTSTART;TZID=UTC:20250518T090000
DTEND;TZID=UTC:20250518T094500
DTSTAMP:20260423T120035
CREATED:20241105T015717Z
LAST-MODIFIED:20241105T022203Z
UID:10000705-1747558800-1747561500@crosslifechurchvt.org
SUMMARY:Adult Sunday School
DESCRIPTION:Bring your bible\, writing utensil\, and notepad\, grab a cup of coffee and join us for fellowship and learning.
URL:https://crosslifechurchvt.org/event/adult-sunday-school-2/2025-05-18/
LOCATION:Cross Life Church\, 1759 US Route 7\, Ferrisburgh\, VT\, 05491\, United States
ATTACH;FMTTYPE=image/jpeg:https://crosslifechurchvt.org/wp-content/uploads/2022/06/bible-scaled-e1656616894798.jpg
ORGANIZER;CN="Bill Schmidt":MAILTO:office@crosslifechurchvt.org
END:VEVENT
BEGIN:VEVENT
DTSTART;TZID=UTC:20250514T090000
DTEND;TZID=UTC:20250514T100000
DTSTAMP:20260423T120035
CREATED:20241105T013330Z
LAST-MODIFIED:20241106T235406Z
UID:10000965-1747213200-1747216800@crosslifechurchvt.org
SUMMARY:Prayer Group
DESCRIPTION:Come join us for a time of prayer.
URL:https://crosslifechurchvt.org/event/prayer-group/2025-05-14/
LOCATION:Cross Life Church\, 1759 US Route 7\, Ferrisburgh\, VT\, 05491\, United States
ATTACH;FMTTYPE=image/jpeg:https://crosslifechurchvt.org/wp-content/uploads/2024/11/olivia-snow-CPPFtCHY6mo-unsplash-scaled.jpg
ORGANIZER;CN="Bill Schmidt":MAILTO:office@crosslifechurchvt.org
END:VEVENT
BEGIN:VEVENT
DTSTART;TZID=UTC:20250511T090000
DTEND;TZID=UTC:20250511T094500
DTSTAMP:20260423T120035
CREATED:20241105T015717Z
LAST-MODIFIED:20241105T022203Z
UID:10000704-1746954000-1746956700@crosslifechurchvt.org
SUMMARY:Adult Sunday School
DESCRIPTION:Bring your bible\, writing utensil\, and notepad\, grab a cup of coffee and join us for fellowship and learning.
URL:https://crosslifechurchvt.org/event/adult-sunday-school-2/2025-05-11/
LOCATION:Cross Life Church\, 1759 US Route 7\, Ferrisburgh\, VT\, 05491\, United States
ATTACH;FMTTYPE=image/jpeg:https://crosslifechurchvt.org/wp-content/uploads/2022/06/bible-scaled-e1656616894798.jpg
ORGANIZER;CN="Bill Schmidt":MAILTO:office@crosslifechurchvt.org
END:VEVENT
BEGIN:VEVENT
DTSTART;TZID=UTC:20250507T090000
DTEND;TZID=UTC:20250507T100000
DTSTAMP:20260423T120035
CREATED:20241105T013330Z
LAST-MODIFIED:20241106T235406Z
UID:10000964-1746608400-1746612000@crosslifechurchvt.org
SUMMARY:Prayer Group
DESCRIPTION:Come join us for a time of prayer.
URL:https://crosslifechurchvt.org/event/prayer-group/2025-05-07/
LOCATION:Cross Life Church\, 1759 US Route 7\, Ferrisburgh\, VT\, 05491\, United States
ATTACH;FMTTYPE=image/jpeg:https://crosslifechurchvt.org/wp-content/uploads/2024/11/olivia-snow-CPPFtCHY6mo-unsplash-scaled.jpg
ORGANIZER;CN="Bill Schmidt":MAILTO:office@crosslifechurchvt.org
END:VEVENT
BEGIN:VEVENT
DTSTART;TZID=UTC:20250504T090000
DTEND;TZID=UTC:20250504T094500
DTSTAMP:20260423T120035
CREATED:20241105T015717Z
LAST-MODIFIED:20241105T022203Z
UID:10000703-1746349200-1746351900@crosslifechurchvt.org
SUMMARY:Adult Sunday School
DESCRIPTION:Bring your bible\, writing utensil\, and notepad\, grab a cup of coffee and join us for fellowship and learning.
URL:https://crosslifechurchvt.org/event/adult-sunday-school-2/2025-05-04/
LOCATION:Cross Life Church\, 1759 US Route 7\, Ferrisburgh\, VT\, 05491\, United States
ATTACH;FMTTYPE=image/jpeg:https://crosslifechurchvt.org/wp-content/uploads/2022/06/bible-scaled-e1656616894798.jpg
ORGANIZER;CN="Bill Schmidt":MAILTO:office@crosslifechurchvt.org
END:VEVENT
BEGIN:VEVENT
DTSTART;TZID=UTC:20250430T090000
DTEND;TZID=UTC:20250430T100000
DTSTAMP:20260423T120035
CREATED:20241105T013330Z
LAST-MODIFIED:20241106T235406Z
UID:10000963-1746003600-1746007200@crosslifechurchvt.org
SUMMARY:Prayer Group
DESCRIPTION:Come join us for a time of prayer.
URL:https://crosslifechurchvt.org/event/prayer-group/2025-04-30/
LOCATION:Cross Life Church\, 1759 US Route 7\, Ferrisburgh\, VT\, 05491\, United States
ATTACH;FMTTYPE=image/jpeg:https://crosslifechurchvt.org/wp-content/uploads/2024/11/olivia-snow-CPPFtCHY6mo-unsplash-scaled.jpg
ORGANIZER;CN="Bill Schmidt":MAILTO:office@crosslifechurchvt.org
END:VEVENT
BEGIN:VEVENT
DTSTART;TZID=UTC:20250427T090000
DTEND;TZID=UTC:20250427T094500
DTSTAMP:20260423T120035
CREATED:20241105T015717Z
LAST-MODIFIED:20241105T022203Z
UID:10000702-1745744400-1745747100@crosslifechurchvt.org
SUMMARY:Adult Sunday School
DESCRIPTION:Bring your bible\, writing utensil\, and notepad\, grab a cup of coffee and join us for fellowship and learning.
URL:https://crosslifechurchvt.org/event/adult-sunday-school-2/2025-04-27/
LOCATION:Cross Life Church\, 1759 US Route 7\, Ferrisburgh\, VT\, 05491\, United States
ATTACH;FMTTYPE=image/jpeg:https://crosslifechurchvt.org/wp-content/uploads/2022/06/bible-scaled-e1656616894798.jpg
ORGANIZER;CN="Bill Schmidt":MAILTO:office@crosslifechurchvt.org
END:VEVENT
BEGIN:VEVENT
DTSTART;TZID=UTC:20250423T090000
DTEND;TZID=UTC:20250423T100000
DTSTAMP:20260423T120035
CREATED:20241105T013330Z
LAST-MODIFIED:20241106T235406Z
UID:10000962-1745398800-1745402400@crosslifechurchvt.org
SUMMARY:Prayer Group
DESCRIPTION:Come join us for a time of prayer.
URL:https://crosslifechurchvt.org/event/prayer-group/2025-04-23/
LOCATION:Cross Life Church\, 1759 US Route 7\, Ferrisburgh\, VT\, 05491\, United States
ATTACH;FMTTYPE=image/jpeg:https://crosslifechurchvt.org/wp-content/uploads/2024/11/olivia-snow-CPPFtCHY6mo-unsplash-scaled.jpg
ORGANIZER;CN="Bill Schmidt":MAILTO:office@crosslifechurchvt.org
END:VEVENT
BEGIN:VEVENT
DTSTART;TZID=UTC:20250420T090000
DTEND;TZID=UTC:20250420T094500
DTSTAMP:20260423T120035
CREATED:20241105T015717Z
LAST-MODIFIED:20241105T022203Z
UID:10000701-1745139600-1745142300@crosslifechurchvt.org
SUMMARY:Adult Sunday School
DESCRIPTION:Bring your bible\, writing utensil\, and notepad\, grab a cup of coffee and join us for fellowship and learning.
URL:https://crosslifechurchvt.org/event/adult-sunday-school-2/2025-04-20/
LOCATION:Cross Life Church\, 1759 US Route 7\, Ferrisburgh\, VT\, 05491\, United States
ATTACH;FMTTYPE=image/jpeg:https://crosslifechurchvt.org/wp-content/uploads/2022/06/bible-scaled-e1656616894798.jpg
ORGANIZER;CN="Bill Schmidt":MAILTO:office@crosslifechurchvt.org
END:VEVENT
BEGIN:VEVENT
DTSTART;TZID=UTC:20250416T090000
DTEND;TZID=UTC:20250416T100000
DTSTAMP:20260423T120035
CREATED:20241105T013330Z
LAST-MODIFIED:20241106T235406Z
UID:10000961-1744794000-1744797600@crosslifechurchvt.org
SUMMARY:Prayer Group
DESCRIPTION:Come join us for a time of prayer.
URL:https://crosslifechurchvt.org/event/prayer-group/2025-04-16/
LOCATION:Cross Life Church\, 1759 US Route 7\, Ferrisburgh\, VT\, 05491\, United States
ATTACH;FMTTYPE=image/jpeg:https://crosslifechurchvt.org/wp-content/uploads/2024/11/olivia-snow-CPPFtCHY6mo-unsplash-scaled.jpg
ORGANIZER;CN="Bill Schmidt":MAILTO:office@crosslifechurchvt.org
END:VEVENT
BEGIN:VEVENT
DTSTART;TZID=UTC:20250413T090000
DTEND;TZID=UTC:20250413T094500
DTSTAMP:20260423T120035
CREATED:20241105T015717Z
LAST-MODIFIED:20241105T022203Z
UID:10000700-1744534800-1744537500@crosslifechurchvt.org
SUMMARY:Adult Sunday School
DESCRIPTION:Bring your bible\, writing utensil\, and notepad\, grab a cup of coffee and join us for fellowship and learning.
URL:https://crosslifechurchvt.org/event/adult-sunday-school-2/2025-04-13/
LOCATION:Cross Life Church\, 1759 US Route 7\, Ferrisburgh\, VT\, 05491\, United States
ATTACH;FMTTYPE=image/jpeg:https://crosslifechurchvt.org/wp-content/uploads/2022/06/bible-scaled-e1656616894798.jpg
ORGANIZER;CN="Bill Schmidt":MAILTO:office@crosslifechurchvt.org
END:VEVENT
BEGIN:VEVENT
DTSTART;TZID=UTC:20250409T090000
DTEND;TZID=UTC:20250409T100000
DTSTAMP:20260423T120035
CREATED:20241105T013330Z
LAST-MODIFIED:20241106T235406Z
UID:10000960-1744189200-1744192800@crosslifechurchvt.org
SUMMARY:Prayer Group
DESCRIPTION:Come join us for a time of prayer.
URL:https://crosslifechurchvt.org/event/prayer-group/2025-04-09/
LOCATION:Cross Life Church\, 1759 US Route 7\, Ferrisburgh\, VT\, 05491\, United States
ATTACH;FMTTYPE=image/jpeg:https://crosslifechurchvt.org/wp-content/uploads/2024/11/olivia-snow-CPPFtCHY6mo-unsplash-scaled.jpg
ORGANIZER;CN="Bill Schmidt":MAILTO:office@crosslifechurchvt.org
END:VEVENT
BEGIN:VEVENT
DTSTART;TZID=UTC:20250406T090000
DTEND;TZID=UTC:20250406T094500
DTSTAMP:20260423T120035
CREATED:20241105T015717Z
LAST-MODIFIED:20241105T022203Z
UID:10000699-1743930000-1743932700@crosslifechurchvt.org
SUMMARY:Adult Sunday School
DESCRIPTION:Bring your bible\, writing utensil\, and notepad\, grab a cup of coffee and join us for fellowship and learning.
URL:https://crosslifechurchvt.org/event/adult-sunday-school-2/2025-04-06/
LOCATION:Cross Life Church\, 1759 US Route 7\, Ferrisburgh\, VT\, 05491\, United States
ATTACH;FMTTYPE=image/jpeg:https://crosslifechurchvt.org/wp-content/uploads/2022/06/bible-scaled-e1656616894798.jpg
ORGANIZER;CN="Bill Schmidt":MAILTO:office@crosslifechurchvt.org
END:VEVENT
BEGIN:VEVENT
DTSTART;TZID=UTC:20250402T090000
DTEND;TZID=UTC:20250402T100000
DTSTAMP:20260423T120035
CREATED:20241105T013330Z
LAST-MODIFIED:20241106T235406Z
UID:10000959-1743584400-1743588000@crosslifechurchvt.org
SUMMARY:Prayer Group
DESCRIPTION:Come join us for a time of prayer.
URL:https://crosslifechurchvt.org/event/prayer-group/2025-04-02/
LOCATION:Cross Life Church\, 1759 US Route 7\, Ferrisburgh\, VT\, 05491\, United States
ATTACH;FMTTYPE=image/jpeg:https://crosslifechurchvt.org/wp-content/uploads/2024/11/olivia-snow-CPPFtCHY6mo-unsplash-scaled.jpg
ORGANIZER;CN="Bill Schmidt":MAILTO:office@crosslifechurchvt.org
END:VEVENT
BEGIN:VEVENT
DTSTART;TZID=UTC:20250330T090000
DTEND;TZID=UTC:20250330T094500
DTSTAMP:20260423T120035
CREATED:20241105T015717Z
LAST-MODIFIED:20241105T022203Z
UID:10000698-1743325200-1743327900@crosslifechurchvt.org
SUMMARY:Adult Sunday School
DESCRIPTION:Bring your bible\, writing utensil\, and notepad\, grab a cup of coffee and join us for fellowship and learning.
URL:https://crosslifechurchvt.org/event/adult-sunday-school-2/2025-03-30/
LOCATION:Cross Life Church\, 1759 US Route 7\, Ferrisburgh\, VT\, 05491\, United States
ATTACH;FMTTYPE=image/jpeg:https://crosslifechurchvt.org/wp-content/uploads/2022/06/bible-scaled-e1656616894798.jpg
ORGANIZER;CN="Bill Schmidt":MAILTO:office@crosslifechurchvt.org
END:VEVENT
BEGIN:VEVENT
DTSTART;TZID=UTC:20250326T090000
DTEND;TZID=UTC:20250326T100000
DTSTAMP:20260423T120035
CREATED:20241105T013330Z
LAST-MODIFIED:20241106T235406Z
UID:10000958-1742979600-1742983200@crosslifechurchvt.org
SUMMARY:Prayer Group
DESCRIPTION:Come join us for a time of prayer.
URL:https://crosslifechurchvt.org/event/prayer-group/2025-03-26/
LOCATION:Cross Life Church\, 1759 US Route 7\, Ferrisburgh\, VT\, 05491\, United States
ATTACH;FMTTYPE=image/jpeg:https://crosslifechurchvt.org/wp-content/uploads/2024/11/olivia-snow-CPPFtCHY6mo-unsplash-scaled.jpg
ORGANIZER;CN="Bill Schmidt":MAILTO:office@crosslifechurchvt.org
END:VEVENT
BEGIN:VEVENT
DTSTART;TZID=UTC:20250323T090000
DTEND;TZID=UTC:20250323T094500
DTSTAMP:20260423T120035
CREATED:20241105T015717Z
LAST-MODIFIED:20241105T022203Z
UID:10000697-1742720400-1742723100@crosslifechurchvt.org
SUMMARY:Adult Sunday School
DESCRIPTION:Bring your bible\, writing utensil\, and notepad\, grab a cup of coffee and join us for fellowship and learning.
URL:https://crosslifechurchvt.org/event/adult-sunday-school-2/2025-03-23/
LOCATION:Cross Life Church\, 1759 US Route 7\, Ferrisburgh\, VT\, 05491\, United States
ATTACH;FMTTYPE=image/jpeg:https://crosslifechurchvt.org/wp-content/uploads/2022/06/bible-scaled-e1656616894798.jpg
ORGANIZER;CN="Bill Schmidt":MAILTO:office@crosslifechurchvt.org
END:VEVENT
END:VCALENDAR